Workbook
Name \b: #REF!
Name \i: #REF!
Name \O: #REF!
Name \p: #REF!
Name \r: #REF!
Name \s: #REF!
Name \t: #REF!
Name \Z: #REF!
Name ____EPS01: #REF!
Name ____eps1: #REF!,#REF!,#REF!,#REF!,#REF!,#REF!,#REF!,#REF!,#REF!
Name ____EPS99: #REF!
Name ____OCF01: #REF!
Name ___BCF01: #REF!
Name ___BCF02: #REF!
Name ___BCF93: #REF!
Name ___BCF94: #REF!
Name ___BCF95: #REF!
Name ___BCF97: #REF!
Name ___BCF98: #REF!
Name ___BCF99: #REF!
Name ___BSO01: #REF!
Name ___BSO02: #REF!
Name ___BSO93: #REF!
Name ___BSO94: #REF!
Name ___BSO95: #REF!
Name ___BSO97: #REF!
Name ___BSO98: #REF!
Name ___BSO99: #REF!
Name ___DAP01: #REF!
Name ___DAP02: #REF!
Name ___DAP03: #REF!
Name ___DAP93: #REF!
Name ___DAP94: #REF!
Name ___DAP95: #REF!
Name ___DAP96: #REF!
Name ___DAP97: #REF!
Name ___DAP98: #REF!
Name ___DAP99: #REF!
Name ___EPS02: #REF!
Name ___EPS03: #REF!
Name ___EPS93: #REF!
Name ___EPS94: #REF!
Name ___EPS95: #REF!
Name ___eps96: #REF!,#REF!,#REF!
Name ___EPS97: #REF!
Name ___EPS98: #REF!
Name ___FCF2001: #REF!
Name ___FCF2002: #REF!
Name ___FCF2003: #REF!
Name ___FCF2004: #REF!
Name ___FCF2005: #REF!
Name ___FCF2006: #REF!
Name ___MCF94: #REF!
Name ___MCF95: #REF!
Name ___MCF96: #REF!
Name ___MCF97: #REF!
Name ___MCF98: #REF!
Name ___OCF02: #REF!
Name ___OCF94: #REF!
Name ___OCF95: #REF!

Sheet Valuation Assignment
A2: Petco Health & Wellness Company, Inc.: Company Overview
A4: Class: | C4: Restructuring and Distressed Investing
A6: Professor: | C6: Dan Kamensky
C7: dk5154@stern.nyu.edu
A9: For purposes of this investment recommendation, today's date is April 1, 2025. For purposes of this investment recommendation, tariffs/macro economic headwinds are not applicable.
A10: You have been asked by your portfolio manager to provide an investment recommendation for Petco TL/Bonds following the methodology taught in your Restructuring & Distressed Investing Course.
A12: 1. She asks you to make a trade recommendation based on how you think Petco will perform over the next year. She refers you to the trade ideas analysis in the Michael Gatto book on pp.331 to 333.
A13: She tells you to assume that that treasury rates stay the same or are hedged, and the trade plays out in one year.
A14: Your Portfolio Manager's required annual rate of return for an investment of this type is 10 to 15prct based on the relative risk of the investment. If you do not believe there is a compelling trade, you should recommend a target price for a potential trade.
A15: 2. She also asks you if you think the company will be able to refinance the bonds when they mature.
A16: She tells you that she believes the company will make a decision whether to refinance the bonds or restructure in March 2028 in advance of the maturity of the Term Loan.
A17: She asks you what you believe the recovery to the securities would be in a restructuring at that time.
A19: You should prepare an investment memo using the attached template as a guide.
A20: She tells you to look at the Sample Full Credit Memo in the Gatto book on page 213 and the Investment Memos posted on Brightspace as useful guides.
A21: The Investment Memo should be a stand-alone document, similar to the Gatto sample, tables and appendixes should be attached.
A22: All highlighted areas in the attached Excel should be inputted, no hard codes should be used. Remember the modeling exercise performed for Neiman Marcus.
... A72: Historical Capital Expenditures
B73: 2022 | C73: 2023 | D73: 2024 | E73: 2025 | F73: 2026 | G73: 2027 | H73: 2028
A74: Total Capex | B74: 239110 | C74: 278020 | D74: 225598 | E74: 167800 | F74: =Feeder!M80 -> 150000 | G74: =Feeder!N80 -> 175000 | H74: =Feeder!O80 -> 250000
A76: PP&E Related Assumptions:
F77: 2026 | G77: 2027 | H77: 2028
A78: Beg PPE | F78: ='Balance Sheet'!G10 -> 780075.25 | G78: =+F81 -> 735056.44 | H78: =+G81 -> 726292.33
A79: plus Capex | F79: =F74 -> 150000 | G79: =G74 -> 175000 | H79: =H74 -> 250000
A80: less D&A | F80: =-F83*F78 -> -195018.81 | G80: =-G83*G78 -> -183764.11 | H80: =-H83*H78 -> -181573.08
A81: End PPE | F81: =+SUM(F78:F80) -> 735056.44 | G81: =+SUM(G78:G80) -> 726292.33 | H81: =+SUM(H78:H80) -> 794719.25
A83: D&A as a % of Beginning PP&E | F83: 0.25 | G83: 0.25 | H83: 0.25
A86: Relative Value
C87: Avg. | D87: Avg. | E87: 50yr Cum.
A88: Rating | B88: Yield | C88: Leverage | D88: Coverage | E88: Default Rate
A90: BB- | B90: 0.0546 | C90: 2 | D90: 4.25 | E90: 0.079
A91: B | B91: 0.0632 | C91: 4 | D91: 3.75 | E91: 0.207
A92: CCC | B92: 0.1085 | C92: 9 | D92: 0.5 | E92: 0.393
A93: Index | B93: 0.0744
A94: Note: Ratings coverage calculated using GAAP EBITDA for comp set

Sheet Feeder
D2: Active Case | E2: 1 | G2: EBITDA | H2: ='Income Statement'!H39 -> 325729.84
G4: Historicals | U4: Rationale
D5: CYE, $'000s | G5: 44196 | H5: =EOMONTH(G5, 12) -> 44561 | I5: =EOMONTH(H5, 12) -> 44926 | J5: =EOMONTH(I5, 12) -> 45291 | K5: =EOMONTH(J5, 12) -> 45657 | L5: =EOMONTH(K5, 12) -> 46022 | M5: =EOMONTH(L5, 12) -> 46387 | N5: =EOMONTH(M5, 12) -> 46752 | O5: =EOMONTH(N5, 12) -> 47118
B7: =$E$2 -> 1 | D7: Revenue - Consumables | I7: =OFFSET(I9,$B$7,) -> 2533800 | J7: =OFFSET(J9,$B$7,) -> 2859600 | K7: =OFFSET(K9,$B$7,) -> 3063800 | L7: =OFFSET(L9,$B$7,) -> 3075500 | M7: =OFFSET(M9,$B$7,) -> 3137010 | N7: =OFFSET(N9,$B$7,) -> 3231120.3 | O7: =OFFSET(O9,$B$7,) -> 3360365.1
D8: % Growth | J8: =J7/I7-1 -> 0.12858158 | K8: =K7/J7-1 -> 0.071408589 | L8: =L7/K7-1 -> 0.0038187871 | M8: =M7/L7-1 -> 0.02 | N8: =N7/M7-1 -> 0.03 | O8: =O7/N7-1 -> 0.04
D10: Base Case | I10: ='Income Statement'!D2 -> 2533800 | J10: ='Income Statement'!E2 -> 2859600 | K10: ='Income Statement'!F2 -> 3063800 | L10: ='Income Statement'!G2 -> 3075500 | M10: =L10*(1+M13) -> 3137010 | N10: =M10*(1+N13) -> 3231120.3 | O10: =N10*(1+O13) -> 3360365.1
D11: Downside Case | I11: =I10 -> 2533800 | J11: =J10 -> 2859600 | K11: =K10 -> 3063800 | L11: =L10 -> 3075500 | M11: =L11*(1+M14) -> 3090877.5 | N11: =M11*(1+N14) -> 3100150.1 | O11: =N11*(1+O14) -> 3103250.3
D13: Base Case | J13: =J10/I10-1 -> 0.12858158 | K13: =K10/J10-1 -> 0.071408589 | L13: =L10/K10-1 -> 0.0038187871 | M13: 0.02 | N13: 0.03 | O13: 0.04 | T13: Petco's primary source of revenue and most stable source of income is through consumables, specifically pet food. The 10-K states that the U.S. pet industry has been resilient through downturns with repeat purchases by pet owners. In Q4 2023, consumables were up 9% year-over-year and in Q2 2024 consumables were up 1%, confirming our deceleration in growth (2%, 3%, 4%).
D14: Downside Case | J14: =J11/I11-1 -> 0.12858158 | K14: =K11/J11-1 -> 0.071408589 | L14: =L11/K11-1 -> 0.0038187871 | M14: 0.005 | N14: 0.003 | O14: 0.001 | T14: Moody’s March 2024 downgrade explains that customers are moving away from premium consumable products and going to less expensive, lower margin categories. While the economy may not allow consumers to purchase more pet food, growth could also be negatively impacted when the channel mix moves toward e-commerce and that too will negatively affect Petco’s relative market share due to increased pricing pressure.
B16: =$E$2 -> 1 | D16: Revenue - Supplies & Companion Animal | I16: =OFFSET(I18,$B$7,) -> 2603100 | J16: =OFFSET(J18,$B$7,) -> 2370900 | K16: =OFFSET(K18,$B$7,) -> 2209900 | L16: =OFFSET(L18,$B$7,) -> 2068700 | M16: =OFFSET(M18,$B$7,) -> 1954921.5 | N16: =OFFSET(N18,$B$7,) -> 1857175.4 | O16: =OFFSET(O18,$B$7,) -> 1773602.5
D17: % Growth | J17: =J16/I16-1 -> -0.089201337 | K17: =K16/J16-1 -> -0.067906702 | L17: =L16/K16-1 -> -0.063894294 | M17: =M16/L16-1 -> -0.055 | N17: =N16/M16-1 -> -0.05 | O17: =O16/N16-1 -> -0.045
D19: Base Case | I19: ='Income Statement'!D4 -> 2603100 | J19: ='Income Statement'!E4 -> 2370900 | K19: ='Income Statement'!F4 -> 2209900 | L19: ='Income Statement'!G4 -> 2068700 | M19: =L19*(1+M22) -> 1954921.5 | N19: =M19*(1+N22) -> 1857175.4 | O19: =N19*(1+O22) -> 1773602.5
D20: Downside Case | I20: =I19 -> 2603100 | J20: =J19 -> 2370900 | K20: =K19 -> 2209900 | L20: =L19 -> 2068700 | M20: =L20*(1+M23) -> 1936303.2 | N20: =M20*(1+N23) -> 1793016.8 | O20: =N20*(1+O23) -> 1642403.4
D22: Base Case | J22: =J19/I19-1 -> -0.089201337 | K22: =K19/J19-1 -> -0.067906702 | L22: =L19/K19-1 -> -0.063894294 | M22: -0.055 | N22: -0.05 | O22: -0.045 | T22: The Supplies & Companion Animal segment experiences lots of structural challenges with added challenges from COVID. The Q2-2024 earnings presentation shows that sales in this category have decreased by more than 5% compared to last year. The company's 10-K filing also noted that the company has recently seen "softening in consumer discretionary spending" in these segments and that there were aggressive competitive pressures to traditional store models like e-commerce.
D23: Downside Case | J23: =J20/I20-1 -> -0.089201337 | K23: =K20/J20-1 -> -0.067906702 | L23: =L20/K20-1 -> -0.063894294 | M23: -0.064 | N23: -0.074 | O23: -0.084 | T23: If we enter a recession, consumers will continue to reduce the amount of money they spend on non-essential pet-related goods. One of the very first things that will go away in that type of environment would be discretionary pet supplies, and not only will consumers be delaying the purchase of those types of goods, but also they will be moving towards Amazon's private label brands or nationally branded products and purchasing fewer companion animals altogether.
B25: =$E$2 -> 1 | D25: Revenue - Product Sales | I25: =OFFSET(I27,$B$7,) -> 5136900 | J25: =OFFSET(J27,$B$7,) -> 5230500 | K25: =OFFSET(K27,$B$7,) -> 5273700 | L25: =OFFSET(L27,$B$7,) -> 5144200 | M25: =M7+M16 -> 5091931.5 | N25: =N7+N16 -> 5088295.7 | O25: =O7+O16 -> 5133967.6
D26: % Growth | J26: =J25/I25-1 -> 0.018221106 | K26: =K25/J25-1 -> 0.0082592486 | L26: =L25/K25-1 -> -0.024555815 | M26: =M25/L25-1 -> -0.010160666 | N26: =N25/M25-1 -> -0.00071402669 | O26: =O25/N25-1 -> 0.0089758773
D28: Base Case | I28: ='Income Statement'!D6 -> 5136900 | J28: ='Income Statement'!E6 -> 5230500 | K28: ='Income Statement'!F6 -> 5273700 | L28: ='Income Statement'!G6 -> 5144200 | M28: =M10+M19 -> 5091931.5 | N28: =N10+N19 -> 5088295.7 | O28: =O10+O19 -> 5133967.6
D29: Downside Case | I29: =I28 -> 5136900 | J29: =J28 -> 5230500 | K29: =K28 -> 5273700 | L29: =L28 -> 5144200 | M29: =M11+M20 -> 5027180.7 | N29: =N11+N20 -> 4893166.9 | O29: =O11+O20 -> 4745653.6
D31: Base Case | J31: =J28/I28-1 -> 0.018221106 | K31: =K28/J28-1 -> 0.0082592486 | L31: =L28/K28-1 -> -0.024555815 | M31: =M28/L28-1 -> -0.010160666 | N31: =N28/M28-1 -> -0.00071402669 | O31: =O28/N28-1 -> 0.0089758773 | T31: Product sales have been added as the sum of the consumables and supplies and companies animal segment of revenue.
D32: Downside Case | J32: =J29/I29-1 -> 0.018221106 | K32: =K29/J29-1 -> 0.0082592486 | L32: =L29/K29-1 -> -0.024555815 | M32: =M29/L29-1 -> -0.022747813 | N32: =N29/M29-1 -> -0.026657845 | O32: =O29/N29-1 -> -0.030146787 | T32: Product sales have been added as the sum of the consumables and supplies and companies animal segment of revenue.
B34: =$E$2 -> 1 | D34: Revenue - Services & Other | I34: =OFFSET(I36,$B$7,) -> 670249 | J34: =OFFSET(J36,$B$7,) -> 805500 | K34: =OFFSET(K36,$B$7,) -> 981600 | L34: =OFFSET(L36,$B$7,) -> 1009300 | M34: =OFFSET(M36,$B$7,) -> 1053914.5 | N34: =OFFSET(N36,$B$7,) -> 1110693.3 | O34: =OFFSET(O36,$B$7,) -> 1181288.8
D35: % Growth | J35: =J34/I34-1 -> 0.20179217 | K35: =K34/J34-1 -> 0.21862197 | L35: =L34/K34-1 -> 0.028219234 | M35: =M34/L34-1 -> 0.04420339 | N35: =N34/M34-1 -> 0.053874172 | O35: =O34/N34-1 -> 0.063559871
D37: Base Case | I37: ='Income Statement'!D7 -> 670249 | J37: ='Income Statement'!E7 -> 805500 | K37: ='Income Statement'!F7 -> 981600 | L37: ='Income Statement'!G7 -> 1009300 | M37: =M49*M41 -> 1053914.5 | N37: =N49*N41 -> 1110693.3 | O37: =O49*O41 -> 1181288.8
D38: Downside Case | I38: =I37 -> 670249 | J38: =J37 -> 805500 | K38: =K37 -> 981600 | L38: =L37 -> 1009300 | M38: =M50*M42 -> 1012327.9 | N38: =N50*N42 -> 1015364.9 | O38: =O50*O42 -> 1018411
D40: # of Veterinary Hospitals
D41: Base Case | K41: 288 | L41: 295 | M41: =L41+7 -> 302 | N41: =M41+7 -> 309 | O41: =N41+7 -> 316 | T41: Petco's valuation assignment explicitly guides for 5–10 net veterinary hospital additions per year, and we model 7 per year as the midpoint. This is much different than historical, as Petco added 50 hospitals in FY2022 and 41 in FY2023, changing by the company's constrained financial position.
D42: Downside Case | K42: 288 | L42: 295 | M42: 295 | N42: 295 | O42: 295
D44: # of New Hospitals Per Year
D45: Base Case | L45: =L41-K41 -> 7 | M45: =M41-L41 -> 7 | N45: =N41-M41 -> 7 | O45: =O41-N41 -> 7
D46: Downside Case | L46: =L42-K42 -> 7 | M46: =M42-L42 -> 0 | N46: =N42-M42 -> 0 | O46: =O42-N42 -> 0
D48: Service Revenue/Vet Clinic
D49: Base Case | K49: =K37/K41 -> 3408.3333 | L49: =L37/L41 -> 3421.3559 | M49: =L49*(1+M53) -> 3489.7831 | N49: =M49*(1+N53) -> 3594.4765 | O49: =N49*(1+O53) -> 3738.2556
D50: Downside Case | K50: =K38/K42 -> 3408.3333 | L50: =L38/L42 -> 3421.3559 | M50: =L50*(1+M54) -> 3431.62 | N50: =M50*(1+N54) -> 3441.9149 | O50: =N50*(1+O54) -> 3452.2406
D52: % Change in Revenue/Vet Clinic
D53: Base Case | L53: =L49/K49-1 -> 0.0038208114 | M53: 0.02 | N53: 0.03 | O53: 0.04 | T53: Revenue per hospital is projected to grow at an accelerating 2/3/4% ramp driven by new hospital maturation. Newly opened locations ramp patient counts and recurring visit frequency over 12–24 months, organically lifting per-location revenue as they exit the initial ramp period.
D54: Downside Case | L54: =L50/K50-1 -> 0.0038208114 | M54: 0.003 | N54: 0.003 | O54: 0.003 | T54: In a distressed scenario, all growth capex is eliminated and hospital count holds flat at 295. This is grounded in Petco's FCF dynamics: Moody's noted negative FCF of –$10M in FY2023, and the Q2 FY2024 earnings highlighted a "maintained prudent approach to capital allocation.
B56: =$E$2 -> 1 | D56: Revenue - Total | G56: =OFFSET(G58,$B$7,) -> 4434514 | H56: =OFFSET(H58,$B$7,) -> 4920202 | I56: =OFFSET(I58,$B$7,) -> 5807149 | J56: =OFFSET(J58,$B$7,) -> 6035967 | K56: =OFFSET(K58,$B$7,) -> 6255284 | L56: =OFFSET(L58,$B$7,) -> 6153500 | M56: =OFFSET(M58,$B$7,) -> 6145846 | N56: =OFFSET(N58,$B$7,) -> 6198989 | O56: =OFFSET(O58,$B$7,) -> 6315256.4
D57: % Growth | H57: =H56/G56-1 -> 0.10952452 | I57: =I56/H56-1 -> 0.18026638 | J57: =J56/I56-1 -> 0.039402812 | K57: =K56/J56-1 -> 0.036335023 | L57: =L56/K56-1 -> -0.016271683 | M57: =M56/L56-1 -> -0.001243848 | N57: =N56/M56-1 -> 0.008646978 | O57: =O56/N56-1 -> 0.018755871
D59: Base Case | G59: ='Income Statement'!B9 -> 4434514 | H59: ='Income Statement'!C9 -> 4920202 | I59: ='Income Statement'!D9 -> 5807149 | J59: ='Income Statement'!E9 -> 6035967 | K59: ='Income Statement'!F9 -> 6255284 | L59: ='Income Statement'!G9 -> 6153500 | M59: =M37+M28 -> 6145846 | N59: =N37+N28 -> 6198989 | O59: =O37+O28 -> 6315256.4
...

Sheet Financial Summary
B2: Enterprise Value | F2: Historical Financials | I2: Projections
F3: 2023 (FY) | G3: 2024 (FY) | H3: 2025 (FY) | I3: FY26 (FYE) | J3: FY27 (FYE) | K3: FY28 (FYE)
B4: Shares Outstanding | C4: 269577 | E4: Revenues | F4: 6035967 | G4: 6255284 | H4: 6153500 | I4: ='Income Statement'!H9 -> 6145846 | J4: ='Income Statement'!I9 -> 6198989 | K4: ='Income Statement'!J9 -> 6315256.4
B5: Shares Price (4/1/2025) | C5: =C6/C4 -> 4.636894 | E5: % YoY | F5: 0.039402812 | G5: 0.036335023 | H5: -0.016271683 | I5: =I4/H4-1 -> -0.001243848 | J5: =J4/I4-1 -> 0.008646978 | K5: =K4/J4-1 -> 0.018755871
B6: Equity Value | C6: ='Capital Structure'!D21 -> 1250000 | E6: Adj. EBITDA | F6: 530769 | G6: 401103 | H6: 333700 | I6: ='Income Statement'!H39 -> 325729.84 | J6: ='Income Statement'!I39 -> 371939.34 | K6: ='Income Statement'!J39 -> 423122.18
B7: Plus Debt: | C7: ='Capital Structure'!D20 -> 1499364 | E7: % YoY | F7: -0.10263949 | G7: -0.24429837 | H7: -0.16804412 | I7: =I6/H6-1 -> -0.023884216 | J7: =J6/I6-1 -> 0.1418645 | K7: =K6/J6-1 -> 0.13761072
B8: Less: Cash | C8: =-'Capital Structure'!D19 -> 100000 | E8: % Margin | F8: 0.087934377 | G8: 0.064122268 | H8: 0.0542293 | I8: =I6/I4 -> 0.053 | J8: =J6/J4 -> 0.06 | K8: =K6/K4 -> 0.067
B9: Total Enterprise Value | C9: ='Capital Structure'!D22 -> 2749364 | E9: CFO less Capex | F9: 67893 | G9: -9879 | H9: -101259 | I9: ='Cash Flow'!B15 -> -45335.949 | J9: ='Cash Flow'!C15 -> -19788.5 | K9: ='Cash Flow'!D15 -> -49962.352
B10: TEV/EBITDA | C10: 8.242694 | E10: Capex | F10: 278020 | G10: 225598 | H10: 167800 | I10: ='Valuation Assignment'!F74 -> 150000 | J10: ='Valuation Assignment'!G74 -> 175000 | K10: ='Valuation Assignment'!H74 -> 250000
B15: FY: Jan ($ in $,000s) | F15: 2021 (FY) | G15: 2022 (FY) | H15: 2023 (FY) | I15: 2024 (FY) | J15: 2025 (FY) | K15: FY26 | L15: FY27 | M15: FY28
B16: Revenues | F16: 4920202 | G16: 5807149 | H16: 6035967 | I16: 6255284 | J16: 6153500 | K16: =Feeder!M59 -> 6145846 | L16: =Feeder!N59 -> 6198989 | M16: =Feeder!O59 -> 6315256.4
B17: YoY % | F17: 0.10952452 | G17: 0.18026638 | H17: 0.039402812 | I17: 0.036335023 | J17: -0.016271683 | K17: =Feeder!M57 -> -0.001243848 | L17: =Feeder!N57 -> 0.008646978 | M17: =Feeder!O57 -> 0.018755871
B19: Gross Profit | F19: 2106738 | G19: 2426610 | H19: 2427107 | I19: 2353835 | J19: 2542300 | K19: ='Income Statement'!H13 -> 2538234.4 | L19: ='Income Statement'!I13 -> 2572580.4 | M19: ='Income Statement'!J13 -> 2633461.9
B20: % Margin | F20: 0.4281812 | G20: 0.41786598 | H20: 0.4021074 | I20: 0.37629546 | J20: 0.41314699 | K20: =K19/K16 -> 0.413 | L20: =L19/L16 -> 0.415 | M20: =M19/M16 -> 0.417
B21: Bps Change YoY | F21: -17.461826 | G21: -103.15222 | H21: -157.58578 | I21: -258.11936 | J21: 369 | K21: =10^4*(K20-J20) -> -1.4698952 | L21: =10^4*(L20-K20) -> 20 | M21: =10^4*(M20-L20) -> 20
B23: Adjusted EBITDA | F23: 484348 | G23: 591478 | H23: 530769 | I23: 401103 | J23: 333700
B24: YoY % | F24: 0.098440674 | G24: 0.10185342 | H24: 0.087934377 | I24: 0.064122268 | J24: 0.0542293
B25: Bps Change YoY | F25: 0.14085837 | G25: 0.22118394 | H25: -0.10263949 | I25: -0.24429837 | J25: -0.16804412
A27: Note:
B28: Mexico JV EBITDA | G28: 26837 | H28: 29584 | I28: 38226 | J28: 37604

Sheet Covenant Summary
A2: Petco Health & Wellness Company, Inc.: Company Overview
A3: Covenant Summary
A4: Below are hypothetical terms of the Indebtedness. These are the only terms you need to be aware of.
A5: Please do not refer to the 10-K for the terms of the Indebtedness.
A6: Term Loan
A7: Secured by substantially all of the Company's assets and guaranteed by all subsdiaries of the company other than the Mexican JV
A9: Restricted Group
A10: The Mexican JV is not a Restricted Subsidiary and is outside the Credit Group
A11: The Mexican JV is owned by a Non-Guarantor Restricted Sub as shown here:
A13: Debt Incurrence.
A14: There is no ratio capacity.
A15: There is general basket capacity of $300 million.
... A40: The Bonds would generally permit a non pro rata exchange

Sheet Capital Structure
B2: Capital Structure Date: | C2: LINKS TO FINANCIAL STATEMENTS: | D2: =+HLOOKUP(D6,#REF!,2,FALSE) -> #REF!
B3: =+#REF! -> #REF! | C3: =+#REF! -> #REF!
B4: =#REF! -> #REF! | C4: =+IF(C3=B3,"OK","ERROR") -> #REF!
B6: FYE: Jan ($ in $,000s) | H6: Jan. 2026 | I6: Jan. 2027 | J6: Jan. 2028
B7: Ticker: WOOF | E7: Leverage | H7: Forecast Period | K7: 2028 Leverage
B8: 45748 | C8: Available | D8: FY25 (A)* | E8: Face | F8: Market | H8: FY26 | I8: FY27 | J8: FY28 | K8: Face | L8: Coupon | M8: Maturity | N8: Price | O8: YTM | P8: Ratings
B9: LC Facility* | C9: 150000 | D9: 0 | H9: 0 | I9: 0 | J9: 0
B10: ABL Revolver | C10: 581000 | D10: 85175 | E10: =D10/$D$25 -> 0.25524423 | F10: =(D10*N10/100)/$D$23 -> 0.25524423 | H10: ='Cash Flow'!B41 -> 80510.949 | I10: ='Cash Flow'!C41 -> 100299.45 | J10: ='Cash Flow'!D41 -> 150261.8 | K10: =J10/J25 -> 0.35512627 | L10: S+125** | M10: 46085 | N10: 100
A11: =IF(D11<1,"hide","") | B11: 1st Lien Term Loan | C11: 1000000 | D11: 1000000 | E11: =D11/D25 -> 2.9967036 | F11: =(D10+D11*N11/100)/D25 -> 3.0122116 | H11: 1000000 | I11: 1000000 | J11: 1000000 | L11: S+325** | M11: 47181 | N11: 92 | O11: 0.097 | P11: B
B12: First Lien Debt | D12: =SUM(D9:D11) -> 1085175 | H12: =SUM(H9:H11) -> 1080510.9 | I12: =SUM(I9:I11) -> 1100299.4 | J12: =SUM(J9:J11) -> 1150261.8
B13: Total First Lien Debt | D13: =D12 -> 1085175 | E13: =D13/D25 -> 3.2519479 | F13: =(D10+D11*N11/100)/D25 -> 3.0122116 | H13: =H12 -> 1080510.9 | I13: =I12 -> 1100299.4 | J13: =J12 -> 1150261.8 | K13: =J13/J25 -> 2.7185098
A14: =IF(D14<1,"hide","") | B14: Capital Leases | D14: 14189 | H14: =D14 -> 14189 | I14: =H14 -> 14189 | J14: =I14 -> 14189
B15: Total Secured Debt | D15: =SUM(D13:D14) -> 1099364 | E15: =D15/D23 -> 3.2944681 | F15: =(D11*N11/100+D10+D14)/D25 -> 3.0547318 | H15: =SUM(H13:H14) -> 1094699.9 | I15: =SUM(I13:I14) -> 1114488.4 | J15: =SUM(J13:J14) -> 1164450.8 | K15: =J15/J25 -> 2.7520439
B17: Senior Unsecured Notes | D17: 500000 | E17: =D17/D25 -> 1.4983518 | F17: =(D15+D17*N17/100)/D25 -> 4.5980342 | H17: 500000 | I17: 500000 | J17: 500000 | K17: =J17/J25 -> 1.1816918 | L17: 0.085 | M17: 47546 | N17: 87 | O17: 0.121 | P17: CCC | Q17: * May have to recalculate price
B18: Total Debt | D18: =D17+D15 -> 1599364 | E18: =D18/D25 -> 4.7928199 | F18: =(D15+D17*N17/100)/D23 -> 4.5980342 | H18: =H15+H17 -> 1594699.9 | I18: =I15+I17 -> 1614488.4 | J18: =J15+J17 -> 1664450.8 | K18: =J18/J25 -> 3.9337356
B19: Less Cash | D19: -100000 | H19: =-'Balance Sheet'!H4 -> -50000 | I19: =-'Balance Sheet'!I4 -> -50000 | J19: =-'Balance Sheet'!J4 -> -50000
B20: Net Debt | D20: =SUM(D18:D19) -> 1499364 | E20: =D20/D25 -> 4.4931495 | F20: =(D15+D17*N17/100+D19)/D25 -> 4.2983638 | H20: =SUM(H18:H19) -> 1544699.9 | I20: =SUM(I18:I19) -> 1564488.4 | J20: =SUM(J18:J19) -> 1614450.8 | K20: =J20/J25 -> 3.8155665
B21: Equity Market Cap | D21: 1250000
B22: Total Enterprise Value | D22: =D20+D21 -> 2749364 | E22: =D22/D23 -> 8.2390291 | F22: =E22 -> 8.2390291
B23: Adjusted EBITDA | D23: 333700
B25: Adjusted EBITDA | D25: ='Financial Summary'!J23 -> 333700 | H25: ='Income Statement'!H39 -> 325729.84 | I25: ='Income Statement'!I39 -> 371939.34 | J25: ='Income Statement'!J39 -> 423122.18
B26: Cash Interest | D26: ='Income Statement'!G21 -> 150000 | H26: ='Income Statement'!H29 -> 110799.01 | I26: ='Income Statement'!I29 -> 111328.36 | J26: ='Income Statement'!J29 -> 113769.64
B27: Capital Expenditures | D27: ='Financial Summary'!H10 -> 167800 | H27: =Feeder!M83 -> 150000 | I27: =Feeder!N83 -> 175000 | J27: =Feeder!O83 -> 250000
B28: Adjusted EBITDA-to-Interest Coverage | D28: =D25/D26 -> 2.2246667 | H28: =H25/H26 -> 2.9398263 | I28: =I25/I26 -> 3.3409216 | J28: =J25/J26 -> 3.7191132
B29: Adj. EBITDA-to-Interest Coverage, after Capex | D29: 1.106 | H29: =(H25-H27)/H26 -> 1.5860236 | I29: =(I25-I27)/I26 -> 1.7689952 | J29: =(J25-J27)/J26 -> 1.5216904
B30: 2028 Leverage Ratio | D30: =K20 -> 3.8155665
B32: *Notes: The Letter of Credit sub-facility is for providing assurances to vendors and counterparties, it should not be considered in your liquidity analysis
B33: ** SOFR is assumed to be 4% during the forecast period
B37: Capital Structure Recoveries - Base Case & Downside Case | J37: Downside Case | N37: Base Case
B38: TEV according to DCF | D38: =DCF!C16 -> 387202.24 | J38: Term Loan | N38: Term Loan
F39: FY28 | K39: 2025 | L39: 2026 | O39: 2025 | P39: 2026
B40: Revolver | J40: EBITDA | K40: ='Income Statement'!G39 -> 333700 | L40: =229501 -> 229501 | N40: EBITDA | O40: ='Income Statement'!G39 -> 333700 | P40: =325730 -> 325730
B41: Ending Balance | F41: =J10 -> 150261.8 | J41: Debt | K41: =D13 -> 1085175 | L41: =H13 -> 1080510.9 | N41: Debt | O41: =D11 -> 1000000 | P41: =H11 -> 1000000
B42: Recovery in $ | F42: =MIN(F41,D38) -> 150261.8 | J42: Leverage Ratio | K42: =E13 -> 3.2519479 | L42: =1159092/L40 -> 5.0504878 | N42: Leverage Ratio | O42: =K42 -> 3.2519479 | P42: =1038400/P40 -> 3.1879164
B43: Recovery in % | F43: =F42/F41 -> 1 | J43: Yield PLP | K43: =(K44)/K42 -> 0.029828277 | L43: =K43 -> 0.029828277 | N43: Yield PLP | O43: =K43 -> 0.029828277 | P43: =O43 -> 0.029828277
J44: YTM | K44: =O11 -> 0.097 | L44: =L43*L42 -> 0.15064735 | N44: YTM | O44: =K44 -> 0.097 | P44: =P43*P42 -> 0.095090051
B45: Distributable Value Left | F45: =MAX(0, (D38-F41)) -> 236940.44 | J45: Price | K45: =92 -> 92 | L45: =PRICE("4/1/2026", "3/4/2029", 0.0725, L44, 100, 4) -> 81.777479 | N45: Price | O45: =K45 -> 92 | P45: =PRICE("4/1/2026", "3/4/2029", 0.0725, P44, 100, 4) -> 94.285911
B47: 1st Lien Term Loan
B48: Ending Balance | F48: =J12 -> 1150261.8 | J48: Bonds | N48: Bonds
B49: Recovery in $ | F49: =MIN(F48,F45) -> 236940.44 | K49: 2025 | L49: 2026 | O49: 2025 | P49: 2026
...

Sheet Liquidity Analysis
A1: FYE: Jan ($ in $,000s)
A3: Liquidity Analysis
D4: Projections
A5: Available Liquidity* | C5: FY25 (A) | D5: FY26 | E5: FY27 | F5: FY28
A6: Cash & Equivalents | C6: ='Balance Sheet'!G4 -> 100000 | D6: ='Balance Sheet'!H4 -> 50000 | E6: ='Balance Sheet'!I4 -> 50000 | F6: ='Balance Sheet'!J4 -> 50000
A7: Available Revolver | C7: ='Capital Structure'!C10-'Capital Structure'!D10 -> 495825 | D7: ='Cash Flow'!B74 -> 378230.98 | E7: ='Cash Flow'!C74 -> 353629.95 | F7: ='Cash Flow'!D74 -> 303787.79
A8: Total | C8: =SUM(C6:C7) -> 595825 | D8: =SUM(D6:D7) -> 428230.98 | E8: =SUM(E6:E7) -> 403629.95 | F8: =SUM(F6:F7) -> 353787.79
A10: Maturity Schedule | C10: Amount
A11: 2025 | C11: 0
A12: 2026 | C12: 0
A13: 2027 | C13: 0
A14: 2028 | C14: 0
A15: 2029 | C15: 1000 | D15: Term Loan
A16: 2030 | C16: 500 | D16: Senior Unsecured Bonds
A18: Free Cash Flow Analysis | C18: FY25 (A) | D18: FY28
A19: Operating Income | C19: ='Income Statement'!G20 -> 1808 | D19: ='Cash Flow'!D3 -> 115243.97
A20: Plus Depreciation & Amortization | C20: ='Income Statement'!G16 -> 204092 | D20: ='Cash Flow'!D4 -> 181573.08
A21: EBITDA | C21: =SUM(C19:C20) -> 205900 | D21: ='Cash Flow'!D5 -> 296817.05
A22: less Capex | C22: ='Valuation Assignment'!E74 -> 167800 | D22: ='Cash Flow'!D6 -> 250000
A23: EBITDAX | C23: =C21-C22 -> 38100 | D23: ='Cash Flow'!D7 -> 46817.051
A24: less Interest | C24: ='Income Statement'!G21 -> 150000 | D24: ='Cash Flow'!D8 -> 113769.64
A25: Less cash taxes | C25: =0 -> 0 | D25: ='Cash Flow'!D9 -> 0
A26: Free Cash Flow before changes in WC | C26: =C23-C24 -> -111900 | D26: ='Cash Flow'!D10 -> -66952.592
A27: Cash impact changes in Rec | C27: =C38 -> -6208 | D27: ='Cash Flow'!D11 -> -907.84163
A28: Cash impact changes in Inven | C28: =C39 -> 61199 | D28: ='Cash Flow'!D12 -> 830.82815
A29: Cash impact changes in AP | C29: =C40 -> -39915 | D29: ='Cash Flow'!D13 -> 17067.254
A30: Total impact of change in WC | C30: =C27+C28+C29 -> 15076 | D30: ='Cash Flow'!D14 -> 16990.24
A31: Free Cash Flow | C31: =C26+C30 -> -96824 | D31: ='Cash Flow'!D15 -> -49962.352
A33: FCF Conversion | C33: N/A | D33: N/A
A35: Working Capital Analysis | C35: FY25 (A) | D35: FY28
A36: Change in Net Working Capital
A38: Change in AR | C38: =-('Balance Sheet'!G5-'Balance Sheet'!F5) -> -6208 | D38: ='Cash Flow'!D11 -> -907.84163
A39: Change in Inventory | C39: =-('Balance Sheet'!G6-'Balance Sheet'!F6) -> 61199 | D39: ='Cash Flow'!D12 -> 830.82815
A40: Change in AP | C40: ='Balance Sheet'!G19-'Balance Sheet'!F19 -> -39915 | D40: ='Cash Flow'!D13 -> 17067.254
A42: Cash Change Effect due to NWC | C42: =SUM(C38:C40) -> 15076 | D42: =SUM(D38:D40) -> 16990.24
A44: DSO | C44: ='Balance Sheet'!G43 -> 3 | D44: ='Balance Sheet'!J43 -> 2.85
A45: DIO | C45: ='Balance Sheet'!G44 -> 63 | D45: ='Balance Sheet'!J44 -> 60
A46: DPO | C46: ='Balance Sheet'!G45 -> 45 | D46: ='Balance Sheet'!J45 -> 47
A48: Cash Conversion Cycle | C48: =C44+C45-C46 -> 21 | D48: =D44+D45-D46 -> 15.85
A50: *Notes: The Letter of Credit sub-facility is for providing assurances to vendors and counterparties, it should not be considered in your liquidity analysis

Sheet Income Statement
A1: FYE: Jan ($ in $,000s) | B1: FY20 | C1: FY21 | D1: FY22 (A) | E1: FY23 (A) | F1: FY24 (A) | G1: FY25 (A)* | H1: FY26 | I1: FY27 | J1: FY28 | K1: Assumptions (add rationales here as appropriate)
A2: Consumables | D2: 2533800 | E2: 2859600 | F2: 3063800 | G2: 3075500 | H2: =Feeder!M7 -> 3137010 | I2: =Feeder!N7 -> 3231120.3 | J2: =Feeder!O7 -> 3360365.1
A3: Y/Y | E3: 0.12858158 | F3: 0.071408589 | G3: 0.0038187871 | H3: 0.0038187871 | I3: 0.0038187871 | J3: 0.0038187871 | K3: Insert Assumed Growth Rate
A4: Supplies & Companies Animal | D4: 2603100 | E4: 2370900 | F4: 2209900 | G4: 2068700 | H4: =Feeder!M16 -> 1954921.5 | I4: =Feeder!N16 -> 1857175.4 | J4: =Feeder!O16 -> 1773602.5
A5: Y/Y | E5: -0.089201337 | F5: -0.067906702 | G5: -0.063894294 | H5: =H4/G4-1 -> -0.055 | I5: =I4/H4-1 -> -0.05 | J5: =J4/I4-1 -> -0.045 | K5: Insert Assumed Growth Rate
A6: Product Sales | D6: 5136900 | E6: 5230500 | F6: 5273700 | G6: 5144200 | H6: =Feeder!M25 -> 5091931.5 | I6: =Feeder!N25 -> 5088295.7 | J6: =Feeder!O25 -> 5133967.6
A7: Services & Other | D7: 670249 | E7: 805500 | F7: 981600 | G7: 1009300 | H7: =Feeder!M34 -> 1053914.5 | I7: =Feeder!N34 -> 1110693.3 | J7: =Feeder!O34 -> 1181288.8
A8: Y/Y | E8: 0.20179217 | F8: 0.21862197 | G8: 0.028219234 | H8: =H7/G7-1 -> 0.04420339 | I8: =I7/H7-1 -> 0.053874172 | J8: =J7/I7-1 -> 0.063559871 | K8: Insert Assumed Growth Rate
A9: Total Revenue | B9: 4434514 | C9: 4920202 | D9: 5807149 | E9: 6035967 | F9: 6255284 | G9: 6153500 | H9: =H6+H7 -> 6145846 | I9: =I6+I7 -> 6198989 | J9: =J6+J7 -> 6315256.4
A10: Y/Y | C10: 0.10952452 | D10: 0.18026638 | E10: 0.039402812 | F10: 0.036335023 | G10: -0.016271683 | H10: =H9/G9-1 -> -0.001243848 | I10: =I9/H9-1 -> 0.008646978 | J10: =J9/I9-1 -> 0.018755871
A11: Cost of products sold | B11: 2354451 | C11: 2638628 | D11: 3208108 | E11: 3415032 | F11: 3700667 | G11: 3611200 | H11: =Feeder!M62 -> 3607611.6 | I11: =Feeder!N62 -> 3626408.6 | J11: =Feeder!O62 -> 3681794.5
A12: COGs/Revenues | B12: 0.53093778 | C12: 0.53628449 | D12: 0.55244114 | E12: 0.56578043 | F12: 0.59160655 | G12: 0.58685301 | H12: 0.58685301 | I12: 0.58685301 | J12: 0.58685301 | K12: Insert Assumed Percentage of Revenues
A13: Gross profit | B13: 2080063 | C13: 2281574 | D13: 2599041 | E13: 2620935 | F13: 2554617 | G13: 2542300 | H13: =H9-H11 -> 2538234.4 | I13: =I9-I11 -> 2572580.4 | J13: =J9-J11 -> 2633461.9
A14: Selling and administrative expenses | B14: 1776919 | C14: 1912314 | D14: 2160539 | E14: 2201548 | F14: 2311625 | G14: 2336400 | H14: =Feeder!M71 -> 2335421.5 | I14: =Feeder!N71 -> 2324620.9 | J14: =Feeder!O71 -> 2336644.9
A15: SG&A/Revenues | B15: =B14/B9 -> 0.40070208 | C15: =C14/C9 -> 0.38866575 | D15: =D14/D9 -> 0.37204814 | E15: =E14/E9 -> 0.36473824 | F15: =F14/F9 -> 0.36954757 | G15: =G14/G9 -> 0.37968636 | H15: =H14/H9 -> 0.38 | I15: =I14/I9 -> 0.375 | J15: =J14/J9 -> 0.37 | K15: Insert Assumed Percentage of Revenues
A16: Depreciation and amortization | B16: 173544 | C16: 174836 | D16: 172431 | E16: 193828 | F16: 200782 | G16: 204092 | H16: =H17*'Balance Sheet'!G10 -> 195018.81 | I16: =I17*'Balance Sheet'!H10 -> 183764.11 | J16: =J17*'Balance Sheet'!I10 -> 181573.08 | K16: Assume Depreciation & Amortization is 25% of PPE
A17: % of PPE | H17: 0.25 | I17: 0.25 | J17: 0.25
A18: Indefinite-lived intangible impairment | B18: 19000 | C18: 0 | D18: 0 | E18: 0 | F18: 0 | G18: 0 | H18: 0 | I18: 0 | J18: 0
A19: Goodwill impairment | F19: 1222524 | G19: 0 | H19: 0 | I19: 0 | J19: 0
A20: Operating income | B20: 110600 | C20: 194424 | D20: 266071 | E20: 225559 | F20: -1180314 | G20: 1808 | H20: =H13-H14-H16+SUM(H18:H19) -> 7794.1049 | I20: =I13-I14-I16+SUM(I18:I19) -> 64195.45 | J20: =J13-J14-J16+SUM(J18:J19) -> 115243.97
A21: Interest expense on Funded Debt | B21: 252683 | C21: 235979 | D21: 63676 | E21: 113278 | F21: 143697 | G21: 150000 | H21: =0.07*'Balance Sheet'!H39 -> 110799.01 | I21: =0.07*'Balance Sheet'!I39 -> 111328.36 | J21: =0.07*'Balance Sheet'!J39 -> 113769.64 | K21: Assume 7% on Average Debt Balance for TL, Bonds and ABL
A22: Income / (Loss) before income taxes | B22: -142083 | C22: -41555 | D22: 202395 | E22: 112281 | F22: -1324011 | G22: -148192 | H22: =H20-H21 -> -103004.9 | I22: =I20-I21 -> -47132.914 | J22: =J20-J21 -> 1474.3257
A23: Income Tax Expense / (Benefit) | B23: -35658 | C23: -3337 | D23: 53473 | E23: 35347 | F23: -27613 | G23: 0 | H23: 0 | I23: 0 | J23: 0
A24: Income from equity method investees | B24: -2441 | C24: -6482 | D24: -10883 | E24: -12976 | F24: -16188 | G24: 0 | H24: 0 | I24: 0 | J24: 0
A25: Net Income / (Loss) | B25: -103984 | C25: -31736 | D25: 159805 | E25: 89910 | F25: -1280210 | G25: -148192 | H25: =H22+SUM(H23:H24) -> -103004.9 | I25: =I22+SUM(I23:I24) -> -47132.914 | J25: =J22+SUM(J23:J24) -> 1474.3257
A27: Adjusted EBITDA Build
A28: Net Income / (Loss) | B28: -103984 | C28: -31736 | D28: 159805 | E28: 89910 | F28: -1280210 | G28: -148192 | H28: =H25 -> -103004.9 | I28: =I25 -> -47132.914 | J28: =J25 -> 1474.3257
A29: Interest expense | B29: 253018 | C29: 219083 | D29: 77397 | E29: 101643 | F29: 150909 | G29: 150000 | H29: =H21 -> 110799.01 | I29: =I21 -> 111328.36 | J29: =J21 -> 113769.64
A30: Income Tax Expense / (Benefit) | B30: -35658 | C30: -3337 | D30: 53473 | E30: 35347 | F30: -27613 | G30: 0 | H30: 0 | I30: 0 | J30: 0 | K30: Assume 21% tax rate on net income
A31: Depreciation and amortization | B31: 173544 | C31: 174836 | D31: 172431 | E31: 193828 | F31: 200782 | G31: 204092 | H31: =-'Valuation Assignment'!F80 -> 195018.81 | I31: =-'Valuation Assignment'!G80 -> 183764.11 | J31: =-'Valuation Assignment'!H80 -> 181573.08
A33: EBITDA | B33: 286920 | C33: 358846 | D33: 463106 | E33: 420728 | F33: -956132 | G33: 205900 | H33: =SUM(H28:H31) -> 202812.92 | I33: =SUM(I28:I31) -> 247959.56 | J33: =SUM(J28:J31) -> 296817.05
H34: =H33/G33-1 -> -0.014993116 | I34: =I33/H33-1 -> 0.2226024 | J34: =J33/I33-1 -> 0.19703815
A35: EBITDA Adjustments:
A36: Total EBITDA Adjustments | B36: 137627 | C36: 125502 | D36: 128372 | E36: 110041 | F36: 1357235 | G36: 127800 | H36: =H9*H38 -> 122916.92 | I36: =I9*I38 -> 123979.78 | J36: =J9*J38 -> 126305.13 | K36: Assume Total EBITDA Adjustments of 2% of Sales
F37: #REF!
A38: % of Sales | B38: 0.031035419 | C38: 0.025507489 | D38: 0.022105856 | E38: 0.018230882 | F38: 0.021535553 | G38: 0.020768668 | H38: 0.02 | I38: 0.02 | J38: 0.02
A39: Adjusted EBITDA | B39: 424547 | C39: 484348 | D39: 591478 | E39: 530769 | F39: 401103 | G39: 333700 | H39: =H33+H36 -> 325729.84 | I39: =I33+I36 -> 371939.34 | J39: =J33+J36 -> 423122.18
A40: Growth Rate | H40: =H39/G39-1 -> -0.023884216 | I40: =I39/H39-1 -> 0.1418645 | J40: =J39/I39-1 -> 0.13761072

Sheet Balance Sheet
A1: FYE: Jan ($ in $,000s) | B1: FY20 | C1: FY21 | D1: FY22 (A) | E1: FY23 (A) | F1: FY24 (A) | G1: FY25A* | H1: FY26 | I1: FY27 | J1: FY28 | K1: Assumptions (add rationales here as appropriate)
A2: Assets
A3: Current assets
A4: Cash and cash equivalents | B4: 154718 | C4: 119540 | D4: 221890 | E4: 213727 | F4: 152611 | G4: 100000 | H4: 50000 | I4: 50000 | J4: 50000 | K4: Assume in a distressed scenario, the minimum cash balance could be $50 million
A5: Accounts Receivable - net | B5: 31516 | C5: 41827 | D5: 55618 | E5: 49580 | F5: 44369 | G5: 50577 | H5: =Feeder!M98 -> 47988.112 | I5: =Feeder!N98 -> 48403.065 | J5: =Feeder!O98 -> 49310.906
A6: Inventories - net | B6: 478968 | C6: 538675 | D6: 675111 | E6: 652430 | F6: 684502 | G6: 623303 | H6: =Feeder!M89 -> 612799.78 | I6: =Feeder!N89 -> 606057.32 | J6: =Feeder!O89 -> 605226.49
A7: Other Current Assets | B7: 20949 | C7: 37475 | D7: 75803 | E7: 48983 | F7: 27609 | G7: 27609 | H7: =G7 -> 27609 | I7: =H7 -> 27609 | J7: =I7 -> 27609
A8: Prepaid expenses | B8: 24854 | C8: 40032 | D8: 42355 | E8: 51274 | F8: 58615 | G8: 58615 | H8: =G8 -> 58615 | I8: =H8 -> 58615 | J8: =I8 -> 58615
A9: Total current assets | B9: =SUM(B4:B8) -> 711005 | C9: =SUM(C4:C8) -> 777549 | D9: =SUM(D4:D8) -> 1070777 | E9: =SUM(E4:E8) -> 1015994 | F9: =SUM(F4:F8) -> 967706 | G9: =SUM(G4:G8) -> 860104 | H9: =SUM(H4:H8) -> 797011.89 | I9: =SUM(I4:I8) -> 790684.38 | J9: =SUM(J4:J8) -> 790761.4
A10: PP&E, net | B10: 656256 | C10: 627547 | D10: 726922 | E10: 803327 | F10: 816367 | G10: 780075.25 | H10: ='Valuation Assignment'!F81 -> 735056.44 | I10: ='Valuation Assignment'!G81 -> 726292.33 | J10: ='Valuation Assignment'!H81 -> 794719.25
A11: Intangible Assets | B11: 1026553 | C11: 1025000 | D11: 1025000 | E11: 1025000 | F11: 1025000 | G11: 1025000 | H11: =G11 -> 1025000 | I11: =H11 -> 1025000 | J11: =I11 -> 1025000
A12: Goodwill | B12: 2179310 | C12: 2179310 | D12: 2183991 | E12: 2193941 | F12: 980297 | G12: 980297 | H12: =G12 -> 980297 | I12: =H12 -> 980297 | J12: =I12 -> 980297
A13: Other non current assets | B13: 122390 | C13: 138188 | D13: 152786 | E13: 176806 | F13: 205694 | G13: 205694 | H13: =G13 -> 205694 | I13: =H13 -> 205694 | J13: =I13 -> 205694
A14: Operating lease right-of-use assets | B14: 1459604 | C14: 1328108 | D14: 1338465 | E14: 1397761 | F14: 1384050 | G14: 1384050 | H14: =G14 -> 1384050 | I14: =H14 -> 1384050 | J14: =I14 -> 1384050
A15: Total assets | B15: =SUM(B9:B14) -> 6155118 | C15: =SUM(C9:C14) -> 6075702 | D15: =SUM(D9:D14) -> 6497941 | E15: =SUM(E9:E14) -> 6612829 | F15: =SUM(F9:F14) -> 5379114 | G15: =SUM(G9:G14) -> 5235220.2 | H15: =SUM(H9:H14) -> 5127109.3 | I15: =SUM(I9:I14) -> 5112017.7 | J15: =SUM(J9:J14) -> 5180521.6
A17: Liabilities and Shareholders' Equity
A18: Current liabilities
A19: Accounts payable | B19: 293203 | C19: 339485 | D19: 403976 | E19: 381213 | F19: 485131 | G19: 445216 | H19: =Feeder!M107 -> 444774.03 | I19: =Feeder!N107 -> 457026.83 | J19: =Feeder!O107 -> 474094.08
A20: Current portion LTD | B20: 28643 | C20: 2203 | D20: 21764 | E20: 22794 | F20: 15962 | G20: 85175 | H20: ='Cash Flow'!B41 -> 80510.949 | I20: ='Cash Flow'!C41 -> 100299.45 | J20: ='Cash Flow'!D41 -> 150261.8 | K20: Outstanding Revolver Balance
A21: Accrued salaries and employee benefits | B21: 93685 | C21: 129484 | D21: 150630 | E21: 89929 | F21: 101265 | G21: 101265 | H21: =G21 -> 101265 | I21: =H21 -> 101265 | J21: =I21 -> 101265
A22: Accrued expenses and other liabilities | B22: 148181 | C22: 145846 | D22: 210872 | E22: 217556 | F22: 200278 | G22: 200278 | H22: =G22 -> 200278 | I22: =H22 -> 200278 | J22: =I22 -> 200278
A23: Current portion of operating lease liabilities | B23: 278229 | C23: 258289 | D23: 265897 | E23: 309766 | F23: 310507 | G23: 310507 | H23: =G23 -> 310507 | I23: =H23 -> 310507 | J23: =I23 -> 310507
A24: Total current liabilities | B24: =SUM(B19:B23) -> 841941 | C24: =SUM(C19:C23) -> 875307 | D24: =SUM(D19:D23) -> 1053139 | E24: =SUM(E19:E23) -> 1021258 | F24: =SUM(F19:F23) -> 1113143 | G24: =SUM(G19:G23) -> 1142441 | H24: =SUM(H19:H23) -> 1137335 | I24: =SUM(I19:I23) -> 1169376.3 | J24: =SUM(J19:J23) -> 1236405.9
A25: Long-term debt | B25: 3228447 | C25: 1646281 | D25: 1640390 | E25: 1628331 | F25: 1500000 | G25: 1500000 | H25: 1500000 | I25: 1500000 | J25: 1500000
A26: Senior Notes | F26: 0 | G26: 0 | H26: 0 | I26: 0 | J26: 0
A27: Deferred income taxes | B27: 265276 | C27: 280920 | D27: 318355 | E27: 303121 | F27: 251629 | G27: 251629 | H27: 251629 | I27: 251629 | J27: 251629
A28: Operating lease liabilities | B28: 1156742 | C28: 1083575 | D28: 1096133 | E28: 1148155 | F28: 1116615 | G28: 1116615 | H28: 1116615 | I28: 1116615 | J28: 1116615
A29: Other long-term liabilities | B29: 101651 | C29: 134354 | D29: 134105 | E29: 130487 | F29: 121113 | G29: 121113 | H29: 121113 | I29: 121113 | J29: 121113
A30: Total liabilities | B30: =SUM(B24:B29) -> 5594057 | C30: =SUM(C24:C29) -> 4020437 | D30: =SUM(D24:D29) -> 4242122 | E30: =SUM(E24:E29) -> 4231352 | F30: =SUM(F24:F29) -> 4102500 | G30: =SUM(G24:G29) -> 4131798 | H30: =SUM(H24:H29) -> 4126692 | I30: =SUM(I24:I29) -> 4158733.3 | J30: =SUM(J24:J29) -> 4225762.9
A32: Shareholders' Equity | B32: 561061 | C32: 2055265 | D32: 2255819 | E32: 2381477 | F32: 1276614 | G32: 1103422.2 | H32: =G32+'Income Statement'!H25 -> 1000417.3 | I32: =H32+'Income Statement'!I25 -> 953284.43 | J32: =I32+'Income Statement'!J25 -> 954758.76
A33: Total liabilities and shareholders' equity | B33: =SUM(B30, B32) -> 6155118 | C33: =SUM(C30, C32) -> 6075702 | D33: =SUM(D30, D32) -> 6497941 | E33: =SUM(E30, E32) -> 6612829 | F33: =SUM(F30, F32) -> 5379114 | G33: =SUM(G30, G32) -> 5235220.2 | H33: =H32+H30 -> 5127109.3 | I33: =I32+I30 -> 5112017.7 | J33: =J32+J30 -> 5180521.6
A35: Check | B35: =B15-B33 -> 0 | C35: =C15-C33 -> 0 | D35: =D15-D33 -> 0 | E35: =E15-E33 -> 0 | F35: =F15-F33 -> 0 | G35: =G15-G33 -> 0 | H35: =H15-H33 -> -3.2410026e-07 | I35: =I15-I33 -> -3.2102689e-06 | J35: =J15-J33 -> -0.00034874491
A37: Average Debt Balances
A38: Debt | G38: =G20+G25+G26 -> 1585175 | H38: =H20+H25+H26 -> 1580510.9 | I38: =I20+I25+I26 -> 1600299.4 | J38: =J20+J25+J26 -> 1650261.8
A39: Average Debt Balances | H39: =AVERAGE(G38:H38) -> 1582843 | I39: =AVERAGE(H38:I38) -> 1590405.2 | J39: =AVERAGE(I38:J38) -> 1625280.6
A40: Cash Conversion Metrics
A41: Days in Period | B41: 365 | C41: =B41 -> 365 | D41: =C41 -> 365 | E41: =D41 -> 365 | F41: =E41 -> 365 | G41: 365 | H41: 365 | I41: 365 | J41: 365
A43: Days Sales Outstanding | B43: 2.5585126 | C43: 3.0603865 | D43: 3.4479019 | E43: 2.9570738 | F43: 2.5534956 | G43: 3 | H43: =(H5/'Income Statement'!H9)*H41 -> 2.85 | I43: =(I5/'Income Statement'!I9)*I41 -> 2.85 | J43: =(J5/'Income Statement'!J9)*J41 -> 2.85 | K43: Insert Receivable Days
A44: Days Inventory Outstanding | B44: 68.207603 | C44: 68.926775 | D44: 71.893849 | E44: 65.082824 | F44: 63.161333 | G44: 63 | H44: =(H6/'Income Statement'!H11)*'Balance Sheet'!H41 -> 62 | I44: =(I6/'Income Statement'!I11)*'Balance Sheet'!I41 -> 61 | J44: =(J6/'Income Statement'!J11)*'Balance Sheet'!J41 -> 60 | K44: Insert Inventory Days
A45: Days Payable Outstanding | B45: 41.753674 | C45: 43.439191 | D45: 43.020169 | E45: 38.02771 | F45: 44.764691 | G45: 45 | H45: =(H19/'Income Statement'!H11)*H41 -> 45 | I45: =(I19/'Income Statement'!I11)*I41 -> 46 | J45: =(J19/'Income Statement'!J11)*J41 -> 47 | K45: Insert Payable Days
...

Sheet Cash Flow
A1: Projected FYE: Jan ($ in $,000s) | B1: Projections | E1: Assumptions (add rationales here as appropriate)
A2: Cash Flow Before Changes in ABL | B2: FY26 | C2: FY27 | D2: FY28 | E2: 2
A3: Operating Income | B3: ='Income Statement'!H20 -> 7794.1049 | C3: ='Income Statement'!I20 -> 64195.45 | D3: ='Income Statement'!J20 -> 115243.97
A4: Plus Depreciation & Amortization | B4: ='Income Statement'!H16 -> 195018.81 | C4: ='Income Statement'!I16 -> 183764.11 | D4: ='Income Statement'!J16 -> 181573.08
A5: EBITDA | B5: =SUM(B3:B4) -> 202812.92 | C5: =SUM(C3:C4) -> 247959.56 | D5: =SUM(D3:D4) -> 296817.05
A6: less Capex | B6: =Feeder!M80 -> 150000 | C6: =Feeder!N80 -> 175000 | D6: =Feeder!O80 -> 250000 | E6: Insert Assumptions
A7: EBITDAX | B7: =B5-B6 -> 52812.917 | C7: =C5-C6 -> 72959.559 | D7: =D5-D6 -> 46817.051
A8: less Interest | B8: ='Income Statement'!H29 -> 110799.01 | C8: ='Income Statement'!I29 -> 111328.36 | D8: ='Income Statement'!J29 -> 113769.64
A9: Less cash taxes | B9: ='Income Statement'!H23 -> 0 | C9: ='Income Statement'!I23 -> 0 | D9: ='Income Statement'!J23 -> 0
A10: Free Cash Flow before changes working Capital | B10: =B7-B8-B9 -> -57986.091 | C10: =C7-C8-C9 -> -38368.805 | D10: =D7-D8-D9 -> -66952.592
A11: Cash impact changes in Rec | B11: =-('Balance Sheet'!H5-'Balance Sheet'!G5) -> 2588.8875 | C11: =-('Balance Sheet'!I5-'Balance Sheet'!H5) -> -414.95215 | D11: =-('Balance Sheet'!J5-'Balance Sheet'!I5) -> -907.84163
A12: Cash impact changes in Inven | B12: =-('Balance Sheet'!H6-'Balance Sheet'!G6) -> 10503.223 | C12: =-('Balance Sheet'!I6-'Balance Sheet'!H6) -> 6742.4576 | D12: =-('Balance Sheet'!J6-'Balance Sheet'!I6) -> 830.82815
A13: Cash impact changes in Accounts Payable | B13: ='Balance Sheet'!H19-'Balance Sheet'!G19 -> -441.96823 | C13: ='Balance Sheet'!I19-'Balance Sheet'!H19 -> 12252.799 | D13: ='Balance Sheet'!J19-'Balance Sheet'!I19 -> 17067.254
A14: Total impact of change in working capital | B14: =SUM(B11:B13) -> 12650.142 | C14: =SUM(C11:C13) -> 18580.305 | D14: =SUM(D11:D13) -> 16990.24
A15: Free Cash Flow | B15: =B10+B14 -> -45335.949 | C15: =C10+C14 -> -19788.5 | D15: =D10+D14 -> -49962.352
A17: Other Changes in Free Cash Flow:
A18: New debt raise | B18: 0 | C18: 0 | D18: 0
A19: Equity raise | B19: 0 | C19: 0 | D19: 0
A20: Pension contribution | B20: 0 | C20: 0 | D20: 0
A21: Voluntary prepayment of debt | B21: 0 | C21: 0 | D21: 0
A22: Amount of LT debt maturing | B22: 0 | C22: 0 | D22: 0
A23: Cash flow before changes in RC | B23: =B15+SUM(B18:B22) -> -45335.949 | C23: =C15+SUM(C18:C22) -> -19788.5 | D23: =D15+SUM(D18:D22) -> -49962.352
A25: ABL Revolver Work Sheet:
A26: Determine Cash needs:
A27: Cash Beg | B27: ='Balance Sheet'!G4 -> 100000 | C27: ='Balance Sheet'!H4 -> 50000 | D27: ='Balance Sheet'!I4 -> 50000
A28: less min cash needs | B28: 50000 | C28: 50000 | D28: 50000 | E28: Assume in a distressed scenario, the minimum cash balance could be $50 million
A29: Cash Surplus (deficit) | B29: =B27-B28 -> 50000 | C29: =C27-C28 -> 0 | D29: =D27-D28 -> 0
A31: Cash flow before changes in RC | B31: =B23 -> -45335.949 | C31: =C23 -> -19788.5 | D31: =D23 -> -49962.352
A32: + Cash Surplus (deficit) | B32: =B29 -> 50000 | C32: =C29 -> 0 | D32: =D29 -> 0
A33: = Avail cash to repay revolver (cash needs) | B33: =B31+B32 -> 4664.0514 | C33: =C31+C32 -> -19788.5 | D33: =D31+D32 -> -49962.352
A35: Determine Ending Revolver Balance
A36: Beg Revolver | B36: ='Balance Sheet'!G20 -> 85175 | C36: =B39 -> 80510.949 | D36: =C39 -> 100299.45
A37: If there is a cash need draw the revolver | B37: =IF(B33<0, MIN(-B33,B72-B36),0) -> 0 | C37: =IF(C33<0, MIN(-C33,C72-C36),0) -> 19788.5 | D37: =IF(D33<0, MIN(-D33,D72-D36),0) -> 49962.352
A38: If there is cash available pay back revolver | B38: =IF(B33>0,-MIN(B33,B36),0) -> -4664.0514 | C38: =IF(C33>0,-MIN(C33,C36),0) -> 0 | D38: =IF(D33>0,-MIN(D33,D36),0) -> 0
A39: Change revolver | B39: =B36+SUM(B37:B38) -> 80510.949 | C39: =C36+SUM(C37:C38) -> 100299.45 | D39: =D36+SUM(D37:D38) -> 150261.8
A41: Ending Revolver | B41: =SUM(B36:B38) -> 80510.949 | C41: =SUM(C36:C38) -> 100299.45 | D41: =SUM(D36:D38) -> 150261.8
A43: Determine Change in Cash:
A44: =+A27 -> Cash Beg | B44: =B27 -> 100000 | C44: =C27 -> 50000 | D44: =D27 -> 50000
A45: Cash flow before changes in RC | B45: =B23 -> -45335.949 | C45: =C23 -> -19788.5 | D45: =D23 -> -49962.352
A46: Cash from Revolver usage (paydown) | B46: =SUM(B37:B38) -> -4664.0514 | C46: =SUM(C37:C38) -> 19788.5 | D46: =SUM(D37:D38) -> 49962.352
...

Sheet Comparables
A1: Comparable Analysis
A3: Name | B3: Ticker | C3: Market Cap | D3: Net Debt | E3: TEV | F3: LTM Revenue | G3: LTM Revenue Growth YoY | H3: Comp Sales YoY | I3: LTM EBITDA | J3: LTM EBITDA Margin | K3: EV/LTM EBITDA
A4: Petco | B4: WOOF | C4: 700 | D4: 2050.587 | E4: 2750.587 | F4: 6153.5 | G4: -0.016 | H4: 0.018 | I4: 333.7 | J4: 0.0542293 | K4: 8.242694
A5: Chewy Inc. | B5: CHWY | C5: 11429 | D5: -694 | E5: 10735 | F5: 11308 | G5: 0.102 | I5: 477 | J5: 0.042 | K5: 22.5
A6: PetSmart | B6: NA | C6: N/A | D6: 4097 | E6: N/A | F6: 10058 | G6: 0.009 | H6: 0.007 | I6: 1279.8 | J6: =I6/F6 -> 0.127242 | K6: NA
A8: Average | C8: =AVERAGE(C4:C6) -> 6064.5 | D8: =AVERAGE(D4:D6) -> 1817.8623 | E8: =AVERAGE(E4:E6) -> 6742.7935 | F8: =AVERAGE(F4:F6) -> 9173.1667 | G8: =AVERAGE(G4:G6) -> 0.031666667 | H8: =AVERAGE(H4:H6) -> 0.0125 | I8: =AVERAGE(I4:I6) -> 696.83333 | J8: =AVERAGE(J4:J6) -> 0.074490432 | K8: =AVERAGE(K4:K6) -> 15.371347
A9: Median | C9: =MEDIAN(C4:C6) -> 6064.5 | D9: =MEDIAN(D4:D6) -> 2050.587 | E9: =MEDIAN(E4:E6) -> 6742.7935 | F9: =MEDIAN(F4:F6) -> 10058 | G9: =MEDIAN(G4:G6) -> 0.009 | H9: =MEDIAN(H4:H6) -> 0.0125 | I9: =MEDIAN(I4:I6) -> 477 | J9: =MEDIAN(J4:J6) -> 0.0542293 | K9: =MEDIAN(K4:K6) -> 15.371347
A10: Broadline Retailer
A11: Walmart | B11: WMT | C11: 652505 | D11: 38190 | E11: 690035 | F11: 665035 | G11: 0.047 | H11: 0.045 | I11: 40934 | J11: 0.062 | K11: 16.9
A12: BJ's Wholesale | B12: BJ | C12: 11425 | D12: 579 | E12: 20406 | F12: 204.06 | G12: 0.034 | H12: 0.025 | I12: 1907 | J12: 0.093 | K12: 6.3
A13: Costco | B13: COST | C13: 392918 | D13: -4009 | E13: 254453 | F13: 254453 | G13: 0.05 | H13: 0.053 | I13: 11522 | J13: 0.045 | K13: 33.8
A14: Average | C14: =AVERAGE(C11:C13) -> 352282.67 | D14: =AVERAGE(D11:D13) -> 11586.667 | E14: =AVERAGE(E11:E13) -> 321631.33 | F14: =AVERAGE(F11:F13) -> 306564.02 | G14: =AVERAGE(G11:G13) -> 0.043666667 | H14: =AVERAGE(H11:H13) -> 0.041 | I14: =AVERAGE(I11:I13) -> 18121 | J14: =AVERAGE(J11:J13) -> 0.066666667 | K14: =AVERAGE(K11:K13) -> 19
A15: Median | C15: =MEDIAN(C11:C13) -> 392918 | D15: =MEDIAN(D11:D13) -> 579 | E15: =MEDIAN(E11:E13) -> 254453 | F15: =MEDIAN(F11:F13) -> 254453 | G15: =MEDIAN(G11:G13) -> 0.047 | H15: =MEDIAN(H11:H13) -> 0.045 | I15: =MEDIAN(I11:I13) -> 11522 | J15: =MEDIAN(J11:J13) -> 0.062 | K15: =MEDIAN(K11:K13) -> 16.9
A17: Discount Retailer
A18: Dollar General | B18: DG | C18: 17731 | D18: 5819 | E18: 23550 | F18: 39677 | G18: 0.05 | H18: 0.014 | I18: 3019 | J18: 0.076 | K18: 7.8
A19: Dollar Tree | B19: DLTR | C19: 14374 | D19: 2858 | E19: 17232 | F19: 30966 | G19: 0.047 | H19: 0.018 | I19: 2629 | J19: 0.085 | K19: 6.6
A20: Walgreens | B20: WBA | C20: 8525 | D20: 8230 | E20: 16755 | F20: 4263 | G20: 0.062 | H20: -0.04 | I20: 4263 | J20: 0.029 | K20: 3.9
A21: Average | C21: =AVERAGE(C18:C20) -> 13543.333 | D21: =AVERAGE(D18:D20) -> 5635.6667 | E21: =AVERAGE(E18:E20) -> 19179 | F21: =AVERAGE(F18:F20) -> 24968.667 | G21: =AVERAGE(G18:G20) -> 0.053 | H21: =AVERAGE(H18:H20) -> -0.0026666667 | I21: =AVERAGE(I18:I20) -> 3303.6667 | J21: =AVERAGE(J18:J20) -> 0.063333333 | K21: =AVERAGE(K18:K20) -> 6.1
A22: Median | C22: =MEDIAN(C18:C20) -> 14374 | D22: =MEDIAN(D18:D20) -> 5819 | E22: =MEDIAN(E18:E20) -> 17232 | F22: =MEDIAN(F18:F20) -> 30966 | G22: =MEDIAN(G18:G20) -> 0.05 | H22: =MEDIAN(H18:H20) -> 0.014 | I22: =MEDIAN(I18:I20) -> 3019 | J22: =MEDIAN(J18:J20) -> 0.076 | K22: =MEDIAN(K18:K20) -> 6.6
A24: Department Store
A25: Macy's | B25: M | C25: 4353 | D25: 2360 | E25: 6713 | F25: 23509 | G25: -0.035 | H25: -0.02 | I25: 2304 | J25: 0.098 | K25: 2.9
A26: Nordstrom | B26: JWN | C26: 3834 | D26: 1936 | E26: 5770 | F26: 14969 | G26: 0.022 | H26: 0.036 | I26: 1088 | J26: 0.073 | K26: 5.3
A27: Average | C27: =AVERAGE(C25:C26) -> 4093.5 | D27: =AVERAGE(D25:D26) -> 2148 | E27: =AVERAGE(E25:E26) -> 6241.5 | F27: =AVERAGE(F25:F26) -> 19239 | G27: =AVERAGE(G25:G26) -> -0.0065 | H27: =AVERAGE(H25:H26) -> 0.008 | I27: =AVERAGE(I25:I26) -> 1696 | J27: =AVERAGE(J25:J26) -> 0.0855 | K27: =AVERAGE(K24:K26) -> 4.1
A28: Median | C28: =MEDIAN(C25:C26) -> 4093.5 | D28: =MEDIAN(D25:D26) -> 2148 | E28: =MEDIAN(E25:E26) -> 6241.5 | F28: =MEDIAN(F25:F26) -> 19239 | G28: =MEDIAN(G25:G26) -> -0.0065 | H28: =MEDIAN(H25:H26) -> 0.008 | I28: =MEDIAN(I25:I26) -> 1696 | J28: =MEDIAN(J25:J26) -> 0.0855 | K28: =MEDIAN(K24:K26) -> 4.1

Sheet DCF
B2: Capital Structure Date: | C2: LINKS TO FINANCIAL STATEMENTS:
B3: =+#REF! -> #REF! | C3: =+#REF! -> #REF!
B4: =#REF! -> #REF! | C4: =+IF(C3=B3,"OK","ERROR") -> #REF!
B6: =+"Current FYE: "&TEXT(#REF!,"MMM ")&TEXT(#REF!,"") -> #REF!
B8: Discounted Cash Flow Analysis
B10: DCF | D10: FYE25 (A) | E10: FYE26 | F10: FYE27 | G10: FYE28 | H10: Assumptions
A11: =IF(#REF!<1,"hide","") -> #REF! | B11: PV of free cash flows | D11: =D27/(1+$C$18)^D12 -> 47927.185 | E11: =E27/(1+$C$18)^E12 -> 52596.42 | F11: =F27/(1+$C$18)^F12 -> 58392.46 | G11: =G27/(1+$C$18)^G12 -> 26895.194
B12: Period | D12: 1 | E12: 2 | F12: 3 | G12: 4 | I12: WACC Calculation:
B13: FCF in 2029 | C13: =G11*(1+C19) -> 27164.146 | I13: % Equity | J13: ='Capital Structure'!D21/('Capital Structure'!D21+'Capital Structure'!D18) -> 0.43869439 | L13: We calculated the % equity split using the capital structure.
B14: Terminal Value in 2029 | C14: =C13/(C18-C19) -> 296569.82 | I14: Cost of Equity | J14: =J30+(J33*J32) -> 0.125737
B15: PV in 2025 of terminal value | C15: =C14/(1+C18)^(G12) -> 201390.98 | I15: % Debt | J15: =1-J13 -> 0.56130561 | L15: We calculated the % debt split using the capital structure.
B16: Enterprise Value | C16: =SUM(D11:G11)+C15 -> 387202.24 | I16: Cost of Debt | J16: =(J21*J22)+(J23*J24) -> 0.1047159
I17: Tax Rate | J17: 0.21
B18: WACC (cost of capital) | C18: =J18 -> 0.10159444 | I18: WACC | J18: =(J13*J14)+(J15*J16*(1-J17)) -> 0.10159444
B19: Long term growth (g) | C19: 0.01
I20: Cost of Debt Calculation:
B21: Free Cash Flow Calculation | I21: % 1L TL | J21: ='Capital Structure'!D13/'Capital Structure'!D18 -> 0.67850408
B22: EBITDA | D22: ='Income Statement'!G33 -> 205900 | E22: ='Income Statement'!H33 -> 202812.92 | F22: ='Income Statement'!I33 -> 247959.56 | G22: ='Income Statement'!J33 -> 296817.05 | I22: YTM 1L TL | J22: ='Capital Structure'!K44 -> 0.097
B23: Less: Increases in w/c assets | D23: =('Balance Sheet'!G5-'Balance Sheet'!F5)+('Balance Sheet'!G6-'Balance Sheet'!F6) -> -54991 | E23: =('Balance Sheet'!H5-'Balance Sheet'!G5)+('Balance Sheet'!H6-'Balance Sheet'!G6) -> -13092.11 | F23: =('Balance Sheet'!I5-'Balance Sheet'!H5)+('Balance Sheet'!I6-'Balance Sheet'!H6) -> -6327.5054 | G23: =('Balance Sheet'!J5-'Balance Sheet'!I5)+('Balance Sheet'!J6-'Balance Sheet'!I6) -> 77.013478 | I23: % Unsecured Notes | J23: =1-J21 -> 0.32149592
B24: Plus: Increases in w/c liabilities | D24: ='Balance Sheet'!G19-'Balance Sheet'!F19 -> -39915 | E24: ='Balance Sheet'!H19-'Balance Sheet'!G19 -> -441.96823 | F24: ='Balance Sheet'!I19-'Balance Sheet'!H19 -> 12252.799 | G24: ='Balance Sheet'!J19-'Balance Sheet'!I19 -> 17067.254 | I24: YTM Unsecured Notes | J24: ='Capital Structure'!K54 -> 0.121
B25: less: capital expenditures | D25: ='Valuation Assignment'!E74 -> 167800 | E25: ='Valuation Assignment'!F74 -> 150000 | F25: ='Valuation Assignment'!G74 -> 175000 | G25: ='Valuation Assignment'!H74 -> 250000
B26: less: taxes | D26: =MAX('Income Statement'!G20*0.21,0) -> 379.68 | E26: =MAX('Income Statement'!H20*0.21,0) -> 1636.762 | F26: =MAX('Income Statement'!I20*0.21,0) -> 13481.044 | G26: =MAX('Income Statement'!J20*0.21,0) -> 24201.234 | H26: est. of taxes is before the benefit of deductibility of interest (assume unlevered company)
B27: FCFC (unlevered) | D27: =D22-D23+D24-D25-D26 -> 52796.32 | E27: =E22-E23+E24-E25-E26 -> 63826.298 | F27: =F22-F23+F24-F25-F26 -> 78058.819 | G27: =G22-G23+G24-G25-G26 -> 39606.058 | H27: Assume 21% tax rate on net income
I29: As of April 1, 2025:
I30: Risk Free Rate | J30: 0.0439
I31: SOFR | J31: 0.04
I32: ERP | J32: 0.0433
I33: Beta | J33: 1.89

Sheet PetSmart Capital Structure
B2: Capital Structure Date: | C2: LINKS TO FINANCIAL STATEMENTS: | D2: =+HLOOKUP(D6,#REF!,2,FALSE) -> #REF!
B3: =+#REF! -> #REF! | C3: =+#REF! -> #REF!
B4: =#REF! -> #REF! | C4: =+IF(C3=B3,"OK","ERROR") -> #REF!
B6: FYE: Jan ($ in $,000s)
B7: PetSmart | E7: Leverage
B8: 45748 | C8: Available | D8: FY25 (A)* | E8: Face | F8: Market | H8: Coupon | I8: Maturity | J8: Price | K8: YTM | L8: Ratings
A9: =IF(D9<1,"hide","") | B9: Cash and Equivalents | D9: 125000
B10: LC Facility* | D10: 0
B11: ABL Revolver | C11: 750000 | D11: 120500 | E11: =D11 -> 120500 | F11: =E11 -> 120500 | H11: S+125** | I11: 47176 | J11: 100
A12: =IF(D12<1,"hide","") | B12: 1st Lien Term Loan | D12: 2300000 | E12: =D12 -> 2300000 | F12: =E12 -> 2300000 | H12: S+250** | I12: 46795 | J12: 100 | K12: 0.065 | L12: B
B13: First Lien Debt | D13: =SUM(D11:D12) -> 2420500 | E13: =D13/$D$26 -> 1.8913111 | F13: =(F11+F12*J12/100)/D26 -> 1.8913111
B14: Total First Lien Debt | D14: =D13 -> 2420500
A15: =IF(D15<1,"hide","") | B15: Capital Leases | D15: 20120
B16: Total Secured Debt | D16: =SUM(D14:D15) -> 2440620 | E16: =D16/D26 -> 1.9070323 | F16: =E16 -> 1.9070323
B18: Senior Unsecured Notes | D18: 1200000 | E18: =D18 -> 1200000 | F18: =(J18/100)*E18 -> 1104000 | H18: 0.0475 | I18: 46795 | J18: 92 | K18: 0.079 | L18: B-
B19: Senior Unsecured Notes | D19: 1150000 | E19: =D19 -> 1150000 | F19: =(J19/100)*E19 -> 1127000 | H19: 0.0775 | I19: 47161 | J19: 98 | K19: 0.084 | L19: B-
B20: Total Unsecured Debt | D20: =SUM(D18:D19) -> 2350000 | E20: =D20/D26 -> 1.8362244 | F20: =(D16+D18*J18/100+D19*J19/100)/D26 -> 3.6502735
B22: Total Debt | D22: =D20+D16 -> 4790620 | E22: =SUM(E18:E19)/D26+E16 -> 3.7432568 | F22: =SUM(F18:F19)/D26+F16 -> 3.6502735
B23: Less Cash | D23: -479000
B24: Net Debt | D24: =SUM(D22:D23) -> 4311620 | E24: =E22+D23/D26 -> 3.3689795 | F24: =F22+D23/D26 -> 3.2759962
B26: Adjusted EBITDA | D26: 1279800
B27: Cash Interest Expense | D27: 372000
B28: Capital Expenditures | D28: 215875
B29: Adjusted EBITDA-to-Interest Coverage | D29: =D26/D27 -> 3.4403226
B30: Adj. EBITDA-to-Interest Coverage, after Capex | D30: =(D26-D28)/D27 -> 2.8600134
B33: ** SOFR is assumed to be 4.00% during the forecast period

Sheet Drop Down Transaction Notes
A2: In the event of a potential restructuring, the sponsor can engage in an LME exercise to either obtain liquidity and/or extend maturity
A3: They can do this by 1) threatening creditors to a drop-down transaction, which will transfer assets (up to $650 million in the general basket) from the guarantor restricted subsidiary via either opening up a new unrestricted subsidiary and investing in it or simply moving assets to the nonguarantor subsidiary.
A4: Now that the assets are transferred, the company can then collateralize these in order to issue new senior debt. This may spur the current creditors to extend maturity and more money for the sponsor to hopefully turn things around as they are in real risk of getting primed to the extent of the collateral
A11: We believe that in March 2029 when the TL is due, the company will probably struggle due to its continued declining EBITDA (250mn), 5.9x leverage through the first lien, negative 140mn of cash flows, and overall bleak business outlook.
A12: In the base case, we believe that the company does not need to engage in LME as they can probably refinance the term loan in its maturity, sustaining a respectable 2.7x leverage,negative 48mn cash flows, and a successful cost cutting initiative that bumped up EBITDA to 423 mn in FY 28
A14: Reading through the credit document, it seems that we have a strict $300 mn debt incurrence limit, so our solution would be to threaten a drop-down to the mexican JV and incur debt on that level, or the alternative is that our company receives extended maturity and more money from existing creditors
