Workbook

Sheet Feeder
A1: Feeder Tab
B3: Case | D3: Description | F3: Source
B4: 1 | D4: =OFFSET(D4,$B$4,) -> Case 1 | F4: =OFFSET(F4,$B$4,) -> Base
B5: 1 | D5: Case 1 | F5: Base
B6: =+B5+1 -> 2 | D6: Case 2 | F6: Upside
B7: =+B6+1 -> 3 | D7: Case 3 | F7: Downside
F10: Actual | I10: Expected
B11: FYE, $mn's | F11: 41639 | G11: =EOMONTH(F11,12) -> 42004 | H11: =EOMONTH(G11,12) -> 42369 | I11: =EOMONTH(H11,12) -> 42735 | J11: =EOMONTH(I11,12) -> 43100 | K11: =EOMONTH(J11,12) -> 43465
B13: Revenue | F13: =OFFSET(F13,$B$4,) -> 7088.6 | G13: =OFFSET(G13,$B$4,) -> 7212.4 | H13: =OFFSET(H13,$B$4,) -> 6508.4698 | I13: =OFFSET(I13,$B$4,) -> 6098.4362 | J13: =OFFSET(J13,$B$4,) -> 6710.8832 | K13: =OFFSET(K13,$B$4,) -> 6997.4967
B14: =+B$5 -> 1 | D14: =OFFSET($D$4,$B14,) -> Case 1 | F14: ='Ex 1 Income Statement'!B5 -> 7088.6 | G14: ='Ex 1 Income Statement'!C5 -> 7212.4 | H14: ='Ex 1 Income Statement'!D5 -> 6508.4698 | I14: ='Revenue Build'!I19 -> 6098.4362 | J14: ='Revenue Build'!J19 -> 6710.8832 | K14: ='Revenue Build'!K19 -> 6997.4967 | M14: Base
B15: =+B14+1 -> 2 | D15: =OFFSET($D$4,$B15,) -> Case 2 | F15: 7088.6 | G15: 7212.4 | H15: 6508.5 | I15: ='Revenue Build'!I21 -> 6183.075 | J15: ='Revenue Build'!J21 -> 6906.8202 | K15: ='Revenue Build'!K21 -> 7522.329 | M15: Upside
B16: =+B15+1 -> 3 | D16: =OFFSET($D$4,$B16,) -> Case 3 | F16: 7088.6 | G16: 7212.4 | H16: 6508.5 | I16: ='Revenue Build'!I23 -> 5857.65 | J16: ='Revenue Build'!J23 -> 6365.313 | K16: ='Revenue Build'!K23 -> 6597.7966 | M16: Downside
B18: Revenue Growth | G18: =OFFSET(G18,$B$4,) -> 0.017464662 | H18: =OFFSET(H18,$B$4,) -> -0.0976 | I18: =OFFSET(I18,$B$4,) -> -0.063 | J18: =OFFSET(J18,$B$4,) -> 0.10042689 | K18: =OFFSET(K18,$B$4,) -> 0.042708758
B19: =+B$5 -> 1 | D19: =OFFSET($D$4,$B19,) -> Case 1 | G19: =G14/F14-1 -> 0.017464662 | H19: =H14/G14-1 -> -0.0976 | I19: =I14/H14-1 -> -0.063 | J19: =J14/I14-1 -> 0.10042689 | K19: =K14/J14-1 -> 0.042708758 | M19: Base
B20: =+B19+1 -> 2 | D20: =OFFSET($D$4,$B20,) -> Case 2 | G20: =G15/F15-1 -> 0.017464662 | H20: =H15/G15-1 -> -0.097595807 | I20: =I15/H15-1 -> -0.05 | J20: =J15/I15-1 -> 0.11705263 | K20: =K15/J15-1 -> 0.089116095 | M20: Upside
B21: =+B20+1 -> 3 | D21: =OFFSET($D$4,$B21,) -> Case 3 | G21: =G16/F16-1 -> 0.017464662 | H21: =H16/G16-1 -> -0.097595807 | I21: =I16/H16-1 -> -0.1 | J21: =J16/I16-1 -> 0.086666667 | K21: =K16/J16-1 -> 0.036523517 | M21: Downside
B23: COGS | F23: =OFFSET(F23,$B$4,) -> 5799.4672 | G23: =OFFSET(G23,$B$4,) -> 6015.1416 | H23: =OFFSET(H23,$B$4,) -> 5467.1146 | I23: =OFFSET(I23,$B$4,) -> 5000.7177 | J23: =OFFSET(J23,$B$4,) -> 5469.3698 | K23: =OFFSET(K23,$B$4,) -> 5667.9723
B24: =+B$5 -> 1 | D24: =OFFSET($D$4,$B24,) -> Case 1 | F24: ='Ex 1 Income Statement'!B6 -> 5799.4672 | G24: ='Ex 1 Income Statement'!C6 -> 6015.1416 | H24: ='Ex 1 Income Statement'!D6 -> 5467.1146 | I24: =I14*I29 -> 5000.7177 | J24: =J14*J29 -> 5469.3698 | K24: =K14*K29 -> 5667.9723 | M24: Base
B25: =+B24+1 -> 2 | D25: =OFFSET($D$4,$B25,) -> Case 2 | F25: 5799.5 | G25: 6015.1 | H25: 5467.1 | I25: =I15*I30 -> 4946.46 | J25: =J15*J30 -> 5456.388 | K25: =K15*K30 -> 5867.4167 | M25: Upside
B26: =+B25+1 -> 3 | D26: =OFFSET($D$4,$B26,) -> Case 3 | F26: 5799.5 | G26: 6015.1 | H26: 5467.1 | I26: =I16*I31 -> 4861.8495 | J26: =J16*J31 -> 5346.8629 | K26: =K16*K31 -> 5608.1271 | M26: Downside
B28: COGS (% of revenue) | F28: =OFFSET(F28,$B$4,) -> 0.81814 | G28: =OFFSET(G28,$B$4,) -> 0.834 | H28: =OFFSET(H28,$B$4,) -> 0.84 | I28: =OFFSET(I28,$B$4,) -> 0.82 | J28: =OFFSET(J28,$B$4,) -> 0.815 | K28: =OFFSET(K28,$B$4,) -> 0.81
B29: =+B$5 -> 1 | D29: =OFFSET($D$4,$B29,) -> Case 1 | F29: =F24/F14 -> 0.81814 | G29: =G24/G14 -> 0.834 | H29: =H24/H14 -> 0.84 | I29: 0.82 | J29: 0.815 | K29: 0.81 | M29: Base
B30: =+B29+1 -> 2 | D30: =OFFSET($D$4,$B30,) -> Case 2 | F30: =F25/F15 -> 0.81814463 | G30: =G25/G15 -> 0.83399423 | H30: =H25/H15 -> 0.83999385 | I30: 0.8 | J30: 0.79 | K30: 0.78 | M30: Upside
B31: =+B30+1 -> 3 | D31: =OFFSET($D$4,$B31,) -> Case 3 | F31: =F26/F16 -> 0.81814463 | G31: =G26/G16 -> 0.83399423 | H31: =H26/H16 -> 0.83999385 | I31: 0.83 | J31: 0.84 | K31: 0.85 | M31: Downside
B33: SG&A | F33: =OFFSET(F33,$B$4,) -> 602.59753 | G33: =OFFSET(G33,$B$4,) -> 656.3284 | H33: =OFFSET(H33,$B$4,) -> 663.86392 | I33: =OFFSET(I33,$B$4,) -> 609.84362 | J33: =OFFSET(J33,$B$4,) -> 671.08832 | K33: =OFFSET(K33,$B$4,) -> 979.64953
B34: =+B$5 -> 1 | D34: =OFFSET($D$4,$B34,) -> Case 1 | F34: ='Ex 1 Income Statement'!B8 -> 602.59753 | G34: ='Ex 1 Income Statement'!C8 -> 656.3284 | H34: ='Ex 1 Income Statement'!D8 -> 663.86392 | I34: =I14*I39 -> 609.84362 | J34: =J14*J39 -> 671.08832 | K34: =K14*K39 -> 979.64953 | M34: Base
B35: =+B34+1 -> 2 | D35: =OFFSET($D$4,$B35,) -> Case 2 | F35: 602.6 | G35: 656.3 | H35: 663.9 | I35: =I15*I40 -> 587.39213 | J35: =J15*J40 -> 656.14792 | K35: =K15*K40 -> 564.17468 | M35: Upside
B36: =+B35+1 -> 3 | D36: =OFFSET($D$4,$B36,) -> Case 3 | F36: 602.6 | G36: 656.3 | H36: 663.9 | I36: =I16*I41 -> 615.05325 | J36: =J16*J41 -> 668.35786 | K36: =K16*K41 -> 940.18602 | M36: Downside
B38: SG&A (% of Revenue) | F38: =OFFSET(F38,$B$4,) -> 0.085009386 | G38: =OFFSET(G38,$B$4,) -> 0.091 | H38: =OFFSET(H38,$B$4,) -> 0.102 | I38: =OFFSET(I38,$B$4,) -> 0.1 | J38: =OFFSET(J38,$B$4,) -> 0.1 | K38: =OFFSET(K38,$B$4,) -> 0.14
B39: =+B$5 -> 1 | D39: =OFFSET($D$4,$B39,) -> Case 1 | F39: =F34/F14 -> 0.085009386 | G39: =G34/G14 -> 0.091 | H39: =H34/H14 -> 0.102 | I39: 0.1 | J39: 0.1 | K39: 0.14 | M39: Base
B40: =+B39+1 -> 2 | D40: =OFFSET($D$4,$B40,) -> Case 2 | F40: =F35/F15 -> 0.085009734 | G40: =G35/G15 -> 0.090996062 | H40: =H35/H15 -> 0.10200507 | I40: 0.095 | J40: 0.095 | K40: 0.075 | M40: Upside
B41: =+B40+1 -> 3 | D41: =OFFSET($D$4,$B41,) -> Case 3 | F41: =F36/F16 -> 0.085009734 | G41: =G36/G16 -> 0.090996062 | H41: =H36/H16 -> 0.10200507 | I41: 0.105 | J41: 0.105 | K41: 0.1425 | M41: Downside
B43: R&D | F43: =OFFSET(F43,$B$4,) -> 120.44019 | G43: =OFFSET(G43,$B$4,) -> 129.8232 | H43: =OFFSET(H43,$B$4,) -> 143.18633 | I43: =OFFSET(I43,$B$4,) -> 121.96872 | J43: =OFFSET(J43,$B$4,) -> 134.21766 | K43: =OFFSET(K43,$B$4,) -> 122.45619
B44: =+B$5 -> 1 | D44: =OFFSET($D$4,$B44,) -> Case 1 | F44: ='Ex 1 Income Statement'!B9 -> 120.44019 | G44: ='Ex 1 Income Statement'!C9 -> 129.8232 | H44: ='Ex 1 Income Statement'!D9 -> 143.18633 | I44: =I14*I49 -> 121.96872 | J44: =J14*J49 -> 134.21766 | K44: =K14*K49 -> 122.45619 | M44: Base
B45: =+B44+1 -> 2 | D45: =OFFSET($D$4,$B45,) -> Case 2 | F45: 120.4 | G45: 129.8 | H45: 143.2 | I45: =I15*I50 -> 61.83075 | J45: =J15*J50 -> 69.068202 | K45: =K15*K50 -> 75.22329 | M45: Upside
B46: =+B45+1 -> 3 | D46: =OFFSET($D$4,$B46,) -> Case 3 | F46: 120.4 | G46: 129.8 | H46: 143.2 | I46: =I16*I51 -> 146.44125 | J46: =J16*J51 -> 159.13283 | K46: =K16*K51 -> 131.95593 | M46: Downside
B48: R&D (% of Revenue) | F48: =OFFSET(F48,$B$4,) -> 0.016990688 | G48: =OFFSET(G48,$B$4,) -> 0.018 | H48: =OFFSET(H48,$B$4,) -> 0.022 | I48: =OFFSET(I48,$B$4,) -> 0.02 | J48: =OFFSET(J48,$B$4,) -> 0.02 | K48: =OFFSET(K48,$B$4,) -> 0.0175
B49: =+B$5 -> 1 | D49: =OFFSET($D$4,$B49,) -> Case 1 | F49: =F44/F14 -> 0.016990688 | G49: =G44/G14 -> 0.018 | H49: =H44/H14 -> 0.022 | I49: 0.02 | J49: 0.02 | K49: 0.0175 | M49: Base
B50: =+B49+1 -> 2 | D50: =OFFSET($D$4,$B50,) -> Case 2 | F50: =F45/F15 -> 0.016985018 | G50: =G45/G15 -> 0.017996783 | H50: =H45/H15 -> 0.022001997 | I50: 0.01 | J50: 0.01 | K50: 0.01 | M50: Upside
B51: =+B50+1 -> 3 | D51: =OFFSET($D$4,$B51,) -> Case 3 | F51: =F46/F16 -> 0.016985018 | G51: =G46/G16 -> 0.017996783 | H51: =H46/H16 -> 0.022001997 | I51: 0.025 | J51: 0.025 | K51: 0.02 | M51: Downside
...

Sheet Revenue Build
F1: Actual | I1: Expected
B2: FYE, $mn's | F2: 41639 | G2: =EOMONTH(F2,12) -> 42004 | H2: =EOMONTH(G2,12) -> 42369 | I2: =EOMONTH(H2,12) -> 42735 | J2: =EOMONTH(I2,12) -> 43100 | K2: =EOMONTH(J2,12) -> 43465 | M2: Rationale
C4: Revenue- Europe | E4: 0.2 | F4: of total revenue | M4: *case explicitly states that European manufacturing facilities account for "roughly 20% of SCI's total production.
E5: Case 1 | F5: =Feeder!F14*'Revenue Build'!$E$4 -> 1417.72 | G5: =Feeder!G14*'Revenue Build'!$E$4 -> 1442.48 | H5: =Feeder!H14*'Revenue Build'!$E$4 -> 1301.694 | I5: =H5*(1+I6) -> 683.38932 | J5: =I5*(1+J6) -> 1025.084 | K5: =J5*(1+K6) -> 1055.8365
C6: % YoY change | I6: -0.475 | J6: 0.5 | K6: 0.03 | M6: *Facility offline for approximately 6 months. Assumes some residual Q4 ramp-up as the facility comes back online in late 2016, but the first half is essentially zero European production. *Facility back at full capacity for the full year. The +85% off the depressed 2016 base gets EU revenue back to approximately 90% of its 2015 level, reflecting a near-full normalization. *Steady state growth in line with broader European industrial demand recovery and modest additive price increases as oil prices stabilize in the $60+ range.
E7: Case 2 | F7: =Feeder!F15*'Revenue Build'!$E$4 -> 1417.72 | G7: =Feeder!G16*'Revenue Build'!$E$4 -> 1442.48 | H7: =Feeder!H16*'Revenue Build'!$E$4 -> 1301.7 | I7: =H7*(1+I8) -> 715.935 | J7: =I7*(1+J8) -> 1002.309 | K7: =J7*(1+K8) -> 1027.3667
C8: % YoY change | I8: -0.45 | J8: 0.4 | K8: 0.025 | M8: *Facility offline for approximately 5 months rather than the full 6, with a stronger Q4 ramp as regulatory approvals come through ahead of schedule. *Facility returns to full capacity immediately at the start of 2017 with no utilization lag. The doubling off the 2016 base gets EU revenue back to approximately 2014-2015 levels. *Above-market growth reflecting European industrial recovery, stronger additive pricing as oil stabilizes above $60, and potential minor market share gains from competitors
E9: Case 3 | F9: =Feeder!F16*'Revenue Build'!$E$4 -> 1417.72 | G9: =Feeder!G16*'Revenue Build'!$E$4 -> 1442.48 | H9: =Feeder!H16*'Revenue Build'!$E$4 -> 1301.7 | I9: =H9*(1+I10) -> 650.85 | J9: =I9*(1+J10) -> 1106.445 | K9: =J9*(1+K10) -> 1128.5739
C10: % YoY change | I10: -0.5 | J10: 0.7 | K10: 0.02 | M10: *Facility is offline for the full 6 months with essentially no meaningful Q4 contribution, either due to regulatory approval delays on the environmental upgrades or construction. *Facility comes back online but at approximately 85% utilization rather than full capacity, reflecting either lingering operational issues post-restart or the slower-than-expected. *Gradual recovery toward normalized levels as the remaining utilization gap closes, but below-market growth reflecting the lasting competitive damage
C11: Revenue- Rest of the World | F11: 0.8 | G11: of total revenue | M11: *case explicitly states that Rest of the World manufacturing facilities account for "roughly 80% of SCI's total production.
E12: Case 1 | F12: =Feeder!F14*'Revenue Build'!$F$11 -> 5670.88 | G12: =Feeder!G14*'Revenue Build'!$F$11 -> 5769.92 | H12: =Feeder!H14*'Revenue Build'!$F$11 -> 5206.7758 | I12: =H12*(1+I13) -> 5415.0468 | J12: =I12*(1+J13) -> 5685.7992 | K12: =J12*(1+K13) -> 5941.6601
C13: % YoY change | I13: 0.04 | J13: 0.05 | K13: 0.045 | M13: *Global demand remains soft as China slowdown persists into 2016 and additive price recovery lags the oil price rebound. The modest decline reflects stabilization rather than further deterioration. *Oil price recovery to ~$60/barrel begins flowing through to additive pricing with a one-year lag. Port Arthur upgrades complete and efficiency gains begin contributing to volumes. *Normalized growth reflecting stable oil prices, full Port Arthur efficiency contribution.
E14: Case 2 | F14: =Feeder!F15*'Revenue Build'!$F$11 -> 5670.88 | G14: =Feeder!G15*'Revenue Build'!$F$11 -> 5769.92 | H14: =Feeder!H15*'Revenue Build'!$F$11 -> 5206.8 | I14: =H14*(1+I15) -> 5467.14 | J14: =I14*(1+J15) -> 5904.5112 | K14: =J14*(1+K15) -> 6494.9623
I15: 0.05 | J15: 0.08 | K15: 0.1 | M15: * Facility offline for approximately 5 months rather than the full 6, with a stronger Q4 ramp as regulatory approvals come through ahead of schedule. *facility returns to full capacity immediately at the start of 2017 with no utilization lag. The doubling off the 2016 base gets EU revenue back to approximately 2014-2015 levels — this is normalization. *Above-market growth reflecting European industrial recovery, stronger additive pricing as oil stabilizes above $60.
E16: Case 3 | F16: =Feeder!F16*'Revenue Build'!$F$11 -> 5670.88 | G16: =Feeder!G16*'Revenue Build'!$F$11 -> 5769.92 | H16: =Feeder!H16*'Revenue Build'!$F$11 -> 5206.8 | I16: =H16*(1+I17) -> 5206.8 | J16: =I16*(1+J17) -> 5258.868 | K16: =J16*(1+K17) -> 5469.2227
I17: 0 | J17: 0.01 | K17: 0.04 | M17: *China slowdown persists deeper into 2016 than consensus expects, consistent with the case noting that global industrial production was already negative over the trailing 12 months. *Oil price recovery translates only partially into additive pricing as competitive dynamics among the oligopoly prevent full pass-through. *Below-market growth as pricing power remains constrained and the business operates below its potential efficiency levels.
C18: Total Revenue | I18: =OFFSET(I18,Feeder!$B$4,) -> 6098.4362 | J18: =OFFSET(J18,Feeder!$B$4,) -> 6710.8832 | K18: =OFFSET(K18,Feeder!$B$4,) -> 6997.4967
E19: Case 1 | F19: =F12+F5 -> 7088.6 | G19: =G12+G5 -> 7212.4 | H19: =H12+H5 -> 6508.4698 | I19: =I12+I5 -> 6098.4362 | J19: =J12+J5 -> 6710.8832 | K19: =K12+K5 -> 6997.4967
C20: % YoY change | G20: =G19/F19-1 -> 0.017464662 | H20: =H19/G19-1 -> -0.0976 | I20: =I19/H19-1 -> -0.063 | J20: =J19/I19-1 -> 0.10042689 | K20: =K19/J19-1 -> 0.042708758
E21: Case 2 | F21: =F14+F7 -> 7088.6 | G21: =G14+G7 -> 7212.4 | H21: =H14+H7 -> 6508.5 | I21: =I14+I7 -> 6183.075 | J21: =J14+J7 -> 6906.8202 | K21: =K14+K7 -> 7522.329
C22: % YoY change | G22: =G21/F21-1 -> 0.017464662 | H22: =H21/G21-1 -> -0.097595807 | I22: =I21/H21-1 -> -0.05 | J22: =J21/I21-1 -> 0.11705263 | K22: =K21/J21-1 -> 0.089116095
E23: Case 3 | F23: =F16+F9 -> 7088.6 | G23: =G16+G9 -> 7212.4 | H23: =H16+H9 -> 6508.5 | I23: =I16+I9 -> 5857.65 | J23: =J16+J9 -> 6365.313 | K23: =K16+K9 -> 6597.7966
C24: % YoY change | G24: =G23/F23-1 -> 0.017464662 | H24: =H23/G23-1 -> -0.097595807 | I24: =I23/H23-1 -> -0.1 | J24: =J23/I23-1 -> 0.086666667 | K24: =K23/J23-1 -> 0.036523517

Sheet Ex 1 Income Statement
A1: Exhibit 1: Specialty Chemicals, Inc. Income Statement
F2: Projections
A3: CONSOLIDATED STATEMENTS OF OPERATIONS (USD $) | B3: Fiscal Year End | F3: Fiscal Year End
A4: In Millions, except Per Share data | B4: 2013 | C4: 2014 | D4: 2015 | F4: 2016 | G4: 2017 | H4: 2018
A5: Revenues | B5: 7088.6 | C5: 7212.4 | D5: 6508.4698 | F5: =Feeder!I13 -> 6098.4362 | G5: =Feeder!J13 -> 6710.8832 | H5: =Feeder!K13 -> 6997.4967
A6: Cost of sales | B6: 5799.4672 | C6: 6015.1416 | D6: 5467.1146 | F6: =Feeder!I23 -> 5000.7177 | G6: =Feeder!J23 -> 5469.3698 | H6: =Feeder!K23 -> 5667.9723
A7: Gross profit | B7: 1289.1328 | C7: 1197.2584 | D7: 1041.3552 | F7: =F5-F6 -> 1097.7185 | G7: =G5-G6 -> 1241.5134 | H7: =H5-H6 -> 1329.5244
A8: Selling and administrative expenses | B8: 602.59753 | C8: 656.3284 | D8: 663.86392 | F8: =-Feeder!I33 -> -609.84362 | G8: =-Feeder!J33 -> -671.08832 | H8: =-Feeder!K33 -> -979.64953
A9: Research, testing and development expenses | B9: 120.44019 | C9: 129.8232 | D9: 143.18633 | F9: =-Feeder!I43 -> -121.96872 | G9: =-Feeder!J43 -> -134.21766 | H9: =-Feeder!K43 -> -122.45619
A10: Restructuring and impairment charges | B10: 58.29545 | C10: 57.6992 | D10: 25.146605 | F10: =-Feeder!I53 -> -30.492181 | G10: =-Feeder!J53 -> -33.554416 | H10: =-Feeder!K53 -> -34.987483
A11: Other income - net | B11: -3.8018772 | C11: 6.5099738 | D11: -2.2485644 | F11: 0 | G11: 0 | H11: 0 | L11: 0.25 | M11: Tax Rate
A12: Operating income | B12: 511.6015 | C12: 346.89763 | D12: 211.40687 | F12: =SUM(F7:F11) -> 335.41399 | G12: =SUM(G7:G11) -> 402.65299 | H12: =SUM(H7:H11) -> 192.43116
A13: Interest income | F13: ='Ex 3 Cap Table'!C49 -> 5.6314973 | G13: ='Ex 3 Cap Table'!D49 -> 4.7177 | H13: ='Ex 3 Cap Table'!E49 -> 1.4464855
A14: Interest expense | B14: 358.94 | C14: 366.149 | D14: 365.744 | F14: =-'Ex 3 Cap Table'!C117 -> -367.03243 | G14: =-'Ex 3 Cap Table'!D117 -> -372.14972 | H14: =-'Ex 3 Cap Table'!E117 -> -385.4245
A15: Income before income taxes | B15: 152.6615 | C15: -19.251374 | D15: -154.33713 | F15: =SUM(F12:F14) -> -25.986949 | G15: =SUM(G12:G14) -> 35.220974 | H15: =SUM(H12:H14) -> -191.54686
A16: Provision for income taxes | B16: 38.165375 | C16: -4.8128435 | D16: -38.584282 | F16: =-F15*($L$11) -> 6.4967371 | G16: =-G15*($L$11) -> -8.8052435 | H16: =-H15*($L$11) -> 47.886714
A17: Net income (loss) | B17: 114.49613 | C17: -14.43853 | D17: -115.75285 | F17: =SUM(F15:F16) -> -19.490211 | G17: =SUM(G15:G16) -> 26.415731 | H17: =SUM(H15:H16) -> -143.66014
A20: CAPEX | B20: -261.06223 | C20: -306.61977 | D20: -273.35573 | F20: =Feeder!I89 -> 250 | G20: =Feeder!J89 -> 700 | H20: =Feeder!K89 -> 350
A21: D&A | B21: 273.73516 | C21: 291.64683 | D21: 260.33879 | F21: =Feeder!I63 -> 258.29767 | G21: =Feeder!J63 -> 258.29767 | H21: =Feeder!K63 -> 258.29767
A24: EBITDA | B24: 839.83023 | C24: 702.75363 | D24: 494.6437 | F24: =F12+F21 -> 593.71166 | G24: =G12+G21 -> 660.95066 | H24: =H12+H21 -> 450.72883

Sheet Ex 2 Balance Sheet
A1: Exhibit 2: Specialty Chemicals, Inc. Balance Sheet
E2: Projections
A3: CONSOLIDATED BALANCE SHEETS (US$) | B3: As of | E3: As of
A4: In Millions | B4: Dec. 31, 2014 | C4: Dec. 31, 2015 | E4: 2016 | F4: 2017 | G4: 2018
A5: ASSETS
A6: Cash and cash equivalents | B6: 338.51864 | C6: 264.99169 | E6: ='Statement of Cash Flows'!D39 -> 191 | F6: ='Statement of Cash Flows'!E39 -> 191 | G6: ='Statement of Cash Flows'!F39 -> -73.875668
A7: Receivables | B7: 1003.838 | C7: 935.96495 | E7: =(Feeder!I79*Feeder!I13)/365 -> 885.52635 | F7: =(Feeder!J79*Feeder!J13)/365 -> 974.45701 | G7: =(Feeder!K79*Feeder!K13)/365 -> 1016.0749
A8: Inventories | B8: 1133.3864 | C8: 1138.3357 | E8: =(Feeder!I74*Feeder!I23)/365 -> 1096.0477 | F8: =(Feeder!J74*Feeder!J23)/365 -> 1198.766 | G8: =(Feeder!K74*Feeder!K23)/365 -> 1242.2953
A9: Deferred income taxes | B9: 34.502861 | C9: 34.852749 | E9: 34.852749 | F9: 34.852749 | G9: 34.852749
A10: Other current assets | B10: 144.248 | C10: 156.20327 | E10: 156.20327 | F10: 156.20327 | G10: 156.20327
A11: Total current assets | B11: 2654.4939 | C11: 2530.3484 | E11: =SUM(E6:E10) -> 2363.6301 | F11: =SUM(F6:F10) -> 2555.279 | G11: =SUM(G6:G10) -> 2375.5505
A13: Property and equipment - at cost | B13: 6563.284 | C13: 6836.6397 | E13: =Feeder!I108 -> 7086.6397 | F13: =Feeder!J108 -> 7786.6397 | G13: =Feeder!K108 -> 8136.6397
A14: Less accumulated depreciation | B14: -2777.8058 | C14: -3038.1446 | E14: =C14-'Ex 1 Income Statement'!F21 -> -3296.4423 | F14: =E14-'Ex 1 Income Statement'!G21 -> -3554.74 | G14: =F14-'Ex 1 Income Statement'!H21 -> -3813.0376
A15: Property and equipment - net | B15: 3785.4782 | C15: 3798.4951 | E15: =E13+E14 -> 3790.1974 | F15: =F13+F14 -> 4231.8998 | G15: =G13+G14 -> 4323.6021
A16: Goodwill | B16: 85.280657 | C16: 68.581215 | E16: =C16-Feeder!I53 -> 38.089034 | F16: =E16-Feeder!J53 -> 4.5346186 | G16: =F16-Feeder!K53 -> -30.452865
A17: Intangible assets - net | B17: 86.5488 | C17: 78.101637 | E17: 78.101637 | F17: 78.101637 | G17: 78.101637
A18: Other assets | B18: 298.8078 | C18: 302.43192 | E18: 302.43192 | F18: 302.43192 | G18: 302.43192
A19: TOTAL | B19: 6910.6093 | C19: 6777.9583 | E19: =SUM(E15:E18)+E11 -> 6572.4501 | F19: =SUM(F15:F18)+F11 -> 7172.247 | G19: =SUM(G15:G18)+G11 -> 7049.2333
A21: LIABILITIES AND TOTAL EQUITY
A22: Current portion of long-term debt | B22: 9 | C22: 9 | E22: 9 | F22: 9 | G22: 9
A23: Accounts payable | B23: 694.61421 | C23: 684.68787 | E23: =(Feeder!I84*Feeder!I23)/365 -> 630.22743 | F23: =(Feeder!J84*Feeder!J23)/365 -> 689.29044 | G23: =(Feeder!K84*Feeder!K23)/365 -> 714.3198
A24: Accrued expenses and other current liabilities | B24: 472.6241 | C24: 415.42228 | E24: =Feeder!I99 -> 415 | F24: =Feeder!J99 -> 415 | G24: =Feeder!K99 -> 415
A25: Total current liabilities | B25: 1176.2383 | C25: 1109.1102 | E25: =SUM(E22:E24) -> 1054.2274 | F25: =SUM(F22:F24) -> 1113.2904 | G25: =SUM(G22:G24) -> 1138.3198
A27: Long-term debt | B27: 4583.2 | C27: 4574.2 | E27: =C27-E22+'Pro-Forma Cap Table'!C72 -> 4443.0648 | F27: =E27-F22+'Pro-Forma Cap Table'!D72 -> 4957.3829 | G27: =F27-G22+'Pro-Forma Cap Table'!E72 -> 4953
A28: Noncurrent liabilities | B28: 562.5672 | C28: 585.76228 | E28: 585.76228 | F28: 585.76228 | G28: 585.76228
A29: Deferred income taxes | B29: 129.8232 | C29: 130.1694 | E29: 130.1694 | F29: 130.1694 | G29: 130.1694
A30: Total liabilities | B30: 6451.8287 | C30: 6399.2418 | E30: =E25+SUM(E28:E29) -> 1770.1591 | F30: =F25+SUM(F28:F29) -> 1829.2221 | G30: =G25+SUM(G28:G29) -> 1854.2515
A31: Common Shares + Paid-in-Capital | B31: 1054.3113 | C31: 1090 | E31: 1090 | F31: 1090 | G31: 1090
A32: Retained earnings | B32: -595.5307 | C32: -711.28354 | E32: =C32+'Ex 1 Income Statement'!F17 -> -730.77375 | F32: =E32+'Ex 1 Income Statement'!G17 -> -704.35802 | G32: =F32+'Ex 1 Income Statement'!H17 -> -848.01817
A33: Total equity | B33: 458.78062 | C33: 378.71646 | E33: =SUM(E31:E32) -> 359.22625 | F33: =SUM(F31:F32) -> 385.64198 | G33: =SUM(G31:G32) -> 241.98183
A34: TOTAL | B34: 6910.6093 | C34: 6777.9583 | E34: =E30+E33+E27 -> 6572.4501 | F34: =F30+F33+F27 -> 7172.247 | G34: =G30+G33+G27 -> 7049.2333
A36: Check | B36: =B34-B19 -> 0 | C36: =C34-C19 -> 0 | E36: =E34-E19 -> 0 | F36: =F34-F19 -> 0 | G36: =G34-G19 -> 0

Sheet Statement of Cash Flows
A1: Specialty Chemical, Inc.
D2: Projections
A3: CONSOLIDATED STATEMENTS OF CASH FLOWS (USD $) | B3: Fiscal Year Ended | D3: Fiscal Year End
A4: In Millions | B4: 2015 | D4: 2016 | E4: 2017 | F4: 2018
A5: OPERATING ACTIVITIES
A6: Net income (loss) | B6: ='Ex 1 Income Statement'!D17 -> -115.75285 | D6: ='Ex 1 Income Statement'!F17 -> -19.490211 | E6: ='Ex 1 Income Statement'!G17 -> 26.415731 | F6: ='Ex 1 Income Statement'!H17 -> -143.66014
A7: Adjustments to reconcile net income (loss) to cash provided by operating activities:
A8: Depreciation and amortization | B8: ='Ex 1 Income Statement'!D21 -> 260.33879 | D8: =Feeder!I63 -> 258.29767 | E8: =Feeder!J63 -> 258.29767 | F8: =Feeder!K63 -> 258.29767
A9: Restructuring and impairment charges | B9: ='Ex 1 Income Statement'!D10 -> 25.146605 | D9: =Feeder!I53 -> 30.492181 | E9: =Feeder!J53 -> 33.554416 | F9: =Feeder!K53 -> 34.987483
A10: (Gain) loss from sales of assets
A11: Change in current assets and liabilities, net of acquisitions:
A12: Increase in Receivables | B12: =-('Ex 2 Balance Sheet'!C7-'Ex 2 Balance Sheet'!B7) -> 67.873017 | D12: =-('Ex 2 Balance Sheet'!E7-'Ex 2 Balance Sheet'!C7) -> 50.438599 | E12: =-('Ex 2 Balance Sheet'!F7-'Ex 2 Balance Sheet'!E7) -> -88.930661 | F12: =-('Ex 2 Balance Sheet'!G7-'Ex 2 Balance Sheet'!F7) -> -41.617848
A13: Increase in Inventories | B13: =-('Ex 2 Balance Sheet'!C8-'Ex 2 Balance Sheet'!B8) -> -4.9493029 | D13: =-('Ex 2 Balance Sheet'!E8-'Ex 2 Balance Sheet'!C8) -> 42.28804 | E13: =-('Ex 2 Balance Sheet'!F8-'Ex 2 Balance Sheet'!E8) -> -102.71827 | F13: =-('Ex 2 Balance Sheet'!G8-'Ex 2 Balance Sheet'!F8) -> -43.529316
A14: Accounts payable, accrued expenses and other current liabilities | B14: =('Ex 2 Balance Sheet'!C25-'Ex 2 Balance Sheet'!B25) -> -67.128156 | D14: ='Ex 2 Balance Sheet'!E25-'Ex 2 Balance Sheet'!C25 -> -54.88272 | E14: ='Ex 2 Balance Sheet'!F25-'Ex 2 Balance Sheet'!E25 -> 59.063008 | F14: ='Ex 2 Balance Sheet'!G25-'Ex 2 Balance Sheet'!F25 -> 25.029357
A15: Deferred income taxes | B15: =-('Ex 2 Balance Sheet'!C9-'Ex 2 Balance Sheet'!B9) -> -0.34988749 | D15: 0 | E15: 0 | F15: 0
A16: Inc in other current assets | B16: =-('Ex 2 Balance Sheet'!C10-'Ex 2 Balance Sheet'!B10) -> -11.955274 | D16: 0 | E16: 0 | F16: 0
A17: Cash from Increase (Decrease) in Operating Capital | B17: =SUM(B12:B16) -> -16.509604 | D17: =SUM(D12:D16) -> 37.84392 | E17: =SUM(E12:E16) -> -132.58593 | F17: =SUM(F12:F16) -> -60.117808
A18: Total operating activities | B18: =B17+SUM(B6:B9) -> 153.22294 | D18: =D17+SUM(D6:D9) -> 307.14356 | E18: =E17+SUM(E6:E9) -> 185.68189 | F18: =F17+SUM(F6:F9) -> 89.507201
A20: INVESTING ACTIVITIES
A21: Capital expenditures | B21: ='Ex 1 Income Statement'!D20 -> -273.35573 | D21: =-'Ex 1 Income Statement'!F20 -> -250 | E21: =-'Ex 1 Income Statement'!G20 -> -700 | F21: =-'Ex 1 Income Statement'!H20 -> -350
A22: Other items - net | B22: =-('Ex 2 Balance Sheet'!C18-'Ex 2 Balance Sheet'!B18) -> -3.6241181 | D22: 0 | E22: 0 | F22: 0
A23: Total investing activities | B23: =SUM(B21:B22) -> -276.97985 | D23: =SUM(D21:D22) -> -250 | E23: =SUM(E21:E22) -> -700 | F23: =SUM(F21:F22) -> -350
A25: FINANCING ACTIVITIES
A26: Changes in short-term debt - net (RCF) | D26: ='Pro-Forma Cap Table'!C72 -> -122.13524 | E26: ='Pro-Forma Cap Table'!D72 -> 523.31811 | F26: ='Pro-Forma Cap Table'!E72 -> 4.6171311
A27: Repayments of long-term debt | B27: =('Ex 2 Balance Sheet'!C27-'Ex 2 Balance Sheet'!B27) -> -9 | D27: =-'Ex 2 Balance Sheet'!E22 -> -9 | E27: =-'Ex 2 Balance Sheet'!F22 -> -9 | F27: =-'Ex 2 Balance Sheet'!G22 -> -9
A28: Proceeds from the issuance of long-term debt
A29: Other noncurrent liabilities | B29: =('Ex 2 Balance Sheet'!C28-'Ex 2 Balance Sheet'!B28) -> 23.195078 | D29: =('Ex 2 Balance Sheet'!E28-'Ex 2 Balance Sheet'!C28) -> 0 | E29: =('Ex 2 Balance Sheet'!F28-'Ex 2 Balance Sheet'!E28) -> 0 | F29: =('Ex 2 Balance Sheet'!G28-'Ex 2 Balance Sheet'!F28) -> 0
A30: Deferred income taxes | B30: =('Ex 2 Balance Sheet'!C29-'Ex 2 Balance Sheet'!B29) -> 0.3461952 | D30: =('Ex 2 Balance Sheet'!E29-'Ex 2 Balance Sheet'!C29) -> 0 | E30: =('Ex 2 Balance Sheet'!F29-'Ex 2 Balance Sheet'!E29) -> 0 | F30: =('Ex 2 Balance Sheet'!G29-'Ex 2 Balance Sheet'!F29) -> 0
A31: Dividends to SCI shareholders | B31: 0 | D31: 0 | E31: 0 | F31: 0
A32: Dividends to noncontrolling interests | B32: 0 | D32: =('Ex 2 Balance Sheet'!E31-'Ex 2 Balance Sheet'!C31) -> 0 | E32: =('Ex 2 Balance Sheet'!F31-'Ex 2 Balance Sheet'!E31) -> 0 | F32: =('Ex 2 Balance Sheet'!G31-'Ex 2 Balance Sheet'!F31) -> 0
A33: Common shares issued/purchased | B33: =('Ex 2 Balance Sheet'!C31-'Ex 2 Balance Sheet'!B31) -> 35.688679 | D33: 0 | E33: 0 | F33: 0
A34: Proceeds from the exercise of stock options
A35: Total financing activities | B35: =SUM(B26:B33) -> 50.229953 | D35: =SUM(D26:D33) -> -131.13524 | E35: =SUM(E26:E33) -> 514.31811 | F35: =SUM(F26:F33) -> -4.3828689
A37: Net (decrease) increase in cash and cash equivalents | B37: =B35+B23+B18 -> -73.526951 | D37: =D35+D23+D18 -> -73.991688 | E37: =E35+E23+E18 -> 0 | F37: =F35+F23+F18 -> -264.87567
A38: Cash and cash equivalents at the beginning of year | B38: ='Ex 2 Balance Sheet'!B6 -> 338.51864 | D38: ='Ex 2 Balance Sheet'!C6 -> 264.99169 | E38: =D39 -> 191 | F38: =E39 -> 191
A39: Cash and cash equivalents at the end of year | B39: =B38+B37 -> 264.99169 | D39: =D38+D37 -> 191 | E39: =E38+E37 -> 191 | F39: =F38+F37 -> -73.875668

Sheet Ex 3 Cap Table
B2: Exhibit 3: Specialty Chemicals, Inc. Capitalization Table
B4: Borrower: Specialized Chemicals, Inc (SCI) | D4: Capital Structure
B5: Financials as of: | C5: 42369
B6: Today's date: | C6: 42444
B7: 10 Yr Treasury | C7: 0.0247
B8: LTM EBITDA | C8: 494.6437 | H8: Leverage ratio | M8: Leverage
B9: Secured Debt | C9: Secured? | D9: Gtys? | E9: Maturity | F9: Issue Amt. | G9: Out Amt. | H9: Face | I9: Market price | J9: YTM | K9: Market Value | M9: Market | O9: Coupon/ LIBOR Spread* | Q9: Annual Interest Expense | R9: Interest cov. ratio
B10: Revolving Credit Facility | C10: Y | E10: 43101 | F10: 750 | G10: 219.2 | I10: 100 | J10: 0.0413 | K10: =G10 -> 219.2 | O10: 0.035 | P10: * | Q10: =G10*(1%+O10) -> 9.864
B11: 1st Lien Term Loan B | C11: Y | E11: 43466 | F11: 1800 | G11: 1764 | H11: =(G11+G10)/$C$8 -> 4.0093506 | I11: 95 | J11: 0.06 | K11: =I11/100*G11 -> 1675.8 | M11: =(K11+K10)/$C$8 -> 3.8310404 | O11: 0.035 | P11: * | Q11: =G11*(1%+O11) -> 79.38 | R11: =C8/(Q11+Q10) -> 5.542599
B12: 2nd Lien Term Loan | C12: Y | E12: 43831 | F12: 1500 | G12: 1500 | I12: 92 | J12: 0.127 | K12: =I12/100*G12 -> 1380 | O12: 0.1 | Q12: =G12*O12 -> 150
B13: Total Secured Debt | F13: =F12+F11+F10 -> 4050 | G13: =G12+G11+G10 -> 3483.2 | H13: =G13/$C$8 -> 7.0418364 | K13: =SUM(K10:K12) -> 3275 | M13: =K13/C8 -> 6.6209273 | Q13: =SUM(Q10:Q12) -> 239.244 | R13: =C8/Q13 -> 2.0675281
B15: Unsecured Debt | M15: =J12-M12 -> 0.127
B16: Senior 11.50% Notes | C16: N | E16: 42735 | F16: 1100 | G16: 1100 | I16: 60 | J16: NA | K16: =I16/100*G16 -> 660 | O16: 0.115 | Q16: =G16*O16 -> 126.5
B17: Total Unsecured Debt | F17: 1100 | G17: 1100 | K17: =K16+K13 -> 3935 | Q17: =Q16 -> 126.5
B19: Total Debt | F19: =F17+F13 -> 5150 | G19: =G17+G13 -> 4583.2 | H19: =G19/$C$8 -> 9.2656593 | M19: =K16/C8+H13 -> 8.3761301 | Q19: =Q17+Q13 -> 365.744 | R19: =C8/Q19 -> 1.3524315
B20: Less: Cash | G20: =-C29 -> -264.99169
B21: Net Debt | G21: =G19+G20 -> 4318.2083 | H21: =G21/$C$8 -> 8.7299369 | M21: =M19+G20/C8 -> 7.8404077
B23: Liquidity
B24: Total Revolver | C24: 750
B25: Less: Funds Drawn | C25: -219.2
B26: Less: Outstanding LCs | C26: -125
B27: Availability | C27: =SUM(C24:C26) -> 405.8
B29: Cash on Hand | C29: 264.99169
B30: Current Liquidty | C30: =C29+C27 -> 670.79169 | G30: 2016 | J30: 2017
G31: =C38+3.5% -> 0.0471 | H31: =G10*G31 -> 10.32432 | I31: =C41+3.5% -> 0.053 | J31: =G10*I31 -> 11.6176
B32: Required Minimum Cash | C32: 200 | H32: =G31*G11 -> 83.0844 | J32: =I31*G11 -> 93.492
H33: =O12*G12 -> 150 | J33: =H33 -> 150
H34: =SUM(H31:H33) -> 243.40872 | J34: =SUM(J31:J33) -> 255.1096
B35: LIBOR Projections as of March | C35: Rate
B36: 3/15/2016 3-month | C36: 0.0063
B37: 3/15/2016 6-month | C37: 0.009
B38: 3/15/2016 12-month | C38: 0.0121
B39: 3/15/2017 3-month | C39: 0.0115
B40: 3/15/2017 6-month | C40: 0.0142
B41: 3/15/2017 12-month | C41: 0.018
B43: Cash Schedule
D44: Projected
C45: 2016 | D45: 2017 | E45: 2018
B46: Cash Balance
B47: Balance BOY | C47: ='Ex 2 Balance Sheet'!C6 -> 264.99169 | D47: =C51 -> 191 | E47: =D51 -> 191
...

Sheet Pro-Forma Cap Table
A1: o
B2: Exhibit 3: Specialty Chemicals, Inc. Pro Forma Capitalization Table
B4: Borrower: Specialized Chemicals, Inc (SCI) | D4: Capital Structure
B5: Financials as of: | C5: 42369
B6: Today's date: | C6: 42444
B7: 10 Yr Treasury | C7: 0.0247
B8: LTM EBITDA | C8: 494.6437 | H8: Leverage ratio | M8: Leverage
B9: Secured Debt | C9: Secured? | D9: Gtys? | E9: Maturity | F9: Issue Amt. | G9: Out Amt. | H9: Face | I9: Market price | J9: YTM | K9: Market Value | M9: Market | O9: Coupon/ LIBOR Spread* | Q9: Annual Interest Expense | R9: Interest cov. ratio
B10: Revolving Credit Facility | C10: Y | E10: 43101 | F10: 750 | G10: 219.2 | I10: 100 | J10: 0.0413 | K10: =G10 -> 219.2 | O10: 0.035 | P10: * | Q10: =G10*(1%+O10) -> 9.864
B11: 1st Lien Term Loan B | C11: Y | E11: 43466 | F11: 1800 | G11: 1764 | H11: =(G11+G10)/$C$8 -> 4.0093506 | I11: 95 | J11: 0.06 | K11: =I11/100*G11 -> 1675.8 | M11: =SUM(K10:K11)/C8 -> 3.8310404 | O11: 0.035 | P11: * | Q11: =G11*(1%+O11) -> 79.38 | R11: =C8/(Q11+Q10) -> 5.542599
B12: 2nd Lien Term Loan | C12: Y | E12: 43831 | F12: 1500 | G12: 1500 | I12: 92 | J12: 0.127 | K12: =I12/100*G12 -> 1380 | O12: 0.1 | Q12: =G12*O12 -> 150
B13: Total Secured Debt | F13: =F12+F11+F10 -> 4050 | G13: =G12+G11+G10 -> 3483.2 | H13: =G13/$C$8 -> 7.0418364 | K13: =SUM(K10:K12) -> 3275 | M13: =K13/C8 -> 6.6209273 | Q13: =SUM(Q10:Q12) -> 239.244 | R13: =C8/Q13 -> 2.0675281
B16: Total Debt | F16: =F13 -> 4050 | G16: =G13 -> 3483.2 | H16: =G16/$C$8 -> 7.0418364 | M16: =K13/C8 -> 6.6209273 | Q16: =Q13 -> 239.244 | R16: =C8/Q16 -> 2.0675281
B17: Less: Cash | G17: =-C26 -> -264.99169
B18: Net Debt | G18: =G16+G17 -> 3218.2083 | H18: =G18/$C$8 -> 6.506114 | M18: =M16+G17/C8 -> 6.085205
B20: Liquidity
B21: Total Revolver | C21: 750
B22: Less: Funds Drawn | C22: -219.2
B23: Less: Outstanding LCs | C23: -125
B24: Availability | C24: =SUM(C21:C23) -> 405.8
B26: Cash on Hand | C26: 264.99169
B27: Current Liquidty | C27: =C26+C24 -> 670.79169 | G27: 2016 | J27: 2017
G28: =C35+3.5% -> 0.0471 | H28: =G10*G28 -> 10.32432 | I28: =C38+3.5% -> 0.053 | J28: =G10*I28 -> 11.6176
B29: Required Minimum Cash | C29: 200 | H29: =G28*G11 -> 83.0844 | J29: =I28*G11 -> 93.492
H30: =O12*G12 -> 150 | J30: =H30 -> 150
H31: =SUM(H28:H30) -> 243.40872 | J31: =SUM(J28:J30) -> 255.1096
B32: LIBOR Projections as of March | C32: Rate
B33: 3/15/2016 3-month | C33: 0.0063
B34: 3/15/2016 6-month | C34: 0.009
B35: 3/15/2016 12-month | C35: 0.0121
B36: 3/15/2017 3-month | C36: 0.0115
B37: 3/15/2017 6-month | C37: 0.0142
B38: 3/15/2017 12-month | C38: 0.018
B40: Cash Schedule
D41: Projected
C42: 2016 | D42: 2017 | E42: 2018
B43: Cash Balance
B44: Balance BOY | C44: ='Ex 2 Balance Sheet'!C6 -> 264.99169 | D44: =C48 -> 191 | E44: =D48 -> 191
B46: Interest Income | C46: =$C$7*AVERAGE(C44,C48) -> 5.6314973 | D46: =$C$7*AVERAGE(D44,D48) -> 4.7177 | E46: =$C$7*AVERAGE(E44,E48) -> 1.4464855
B48: Balance EOY | C48: ='Ex 2 Balance Sheet'!E6 -> 191 | D48: ='Ex 2 Balance Sheet'!F6 -> 191 | E48: ='Ex 2 Balance Sheet'!G6 -> -73.875668
...

Sheet Ex 4 Pie Exhibit
A2: Exhibit 4: Lubricating Oil Additives within the Specialty Chemicals Industry
E5: Panel A | M5: Panel B
C28: Beginning | D28: Ending | E28: Average
B29: Historical Oil Prices
B30: 2014 | C30: 93.17 | D30: 53.45 | E30: 53.45
B31: 2015 | C31: 53.45 | D31: 34.55 | E31: 37.13
B32: Assumed Projections
B33: 2016 | C33: 34.55 | D33: 50.8 | E33: 53.75
B34: 2017 | C34: 50.8 | D34: 62.48 | E34: 60.46

Sheet Ex 5 High Yield Graph
A2: Exhibit 5: Average Effective High-Yield Bond Yields, June 15, 2011 -- March 15, 2016

Sheet Operating Summary
B2: Specialty Chemical, Inc.
B3: ($ in millions)
B4: Operating Summary | C4: 39264 | D4: =E4-1 -> 2014 | E4: 2015 | F4: 2016 | G4: 2017 | H4: 2018
B5: Total Revenue | C5: 82.601 | D5: ='Ex 1 Income Statement'!C5 -> 7212.4 | E5: ='Ex 1 Income Statement'!D5 -> 6508.4698 | F5: ='Ex 1 Income Statement'!F5 -> 6098.4362 | G5: ='Ex 1 Income Statement'!G5 -> 6710.8832 | H5: ='Ex 1 Income Statement'!H5 -> 6997.4967
B6: Cost of Goods Sold | C6: =15.916+22.118 -> 38.034 | D6: ='Ex 1 Income Statement'!C6 -> 6015.1416 | E6: ='Ex 1 Income Statement'!D6 -> 5467.1146 | F6: ='Ex 1 Income Statement'!F6 -> 5000.7177 | G6: ='Ex 1 Income Statement'!G6 -> 5469.3698 | H6: ='Ex 1 Income Statement'!H6 -> 5667.9723
B7: Gross Profit | C7: =C5-C6 -> 44.567 | D7: =D5-D6 -> 1197.2584 | E7: =E5-E6 -> 1041.3552 | F7: =F5-F6 -> 1097.7185 | G7: =G5-G6 -> 1241.5134 | H7: =H5-H6 -> 1329.5244
B8: % Margin | C8: =C7/C5 -> 0.53954553 | D8: =D7/D5 -> 0.166 | E8: =E7/E5 -> 0.16 | F8: =F7/F5 -> 0.18 | G8: =G7/G5 -> 0.185 | H8: =H7/H5 -> 0.19
B9: EBITDA | C9: =C7-29.605+0.706-6.838 -> 8.83 | D9: ='Ex 1 Income Statement'!C24 -> 702.75363 | E9: ='Ex 1 Income Statement'!D24 -> 494.6437 | F9: ='Ex 1 Income Statement'!F24 -> 593.71166 | G9: ='Ex 1 Income Statement'!G24 -> 660.95066 | H9: ='Ex 1 Income Statement'!H24 -> 450.72883
B10: % Margin | C10: =C9/C5 -> 0.10689943 | D10: =D9/D5 -> 0.097436863 | E10: =E9/E5 -> 0.076 | F10: =F9/F5 -> 0.097354738 | G10: =G9/G5 -> 0.09848937 | H10: =H9/H5 -> 0.064412868
B11: Interest Expense | C11: 8.059 | D11: ='Ex 1 Income Statement'!C14 -> 366.149 | E11: ='Ex 1 Income Statement'!D14 -> 365.744 | F11: =-'Ex 1 Income Statement'!F14 -> 367.03243 | G11: =-'Ex 1 Income Statement'!G14 -> 372.14972 | H11: =-'Ex 1 Income Statement'!H14 -> 385.4245
B12: Capex | C12: =6.299-3.04 -> 3.259 | D12: =-'Ex 1 Income Statement'!C20 -> 306.61977 | E12: =-'Ex 1 Income Statement'!D20 -> 273.35573 | F12: ='Ex 1 Income Statement'!F20 -> 250 | G12: ='Ex 1 Income Statement'!G20 -> 700 | H12: ='Ex 1 Income Statement'!H20 -> 350
B13: EBITDA - Capex | C13: =C9-C12 -> 5.571 | D13: =D9-D12 -> 396.13386 | E13: =E9-E12 -> 221.28797 | F13: =F9-F12 -> 343.71166 | G13: =G9-G12 -> -39.049342 | H13: =H9-H12 -> 100.72883
B15: Balance Sheet Summary
B16: Cash | C16: 14.362 | D16: ='Ex 2 Balance Sheet'!B6 -> 338.51864 | E16: ='Ex 2 Balance Sheet'!C6 -> 264.99169 | F16: ='Ex 2 Balance Sheet'!E6 -> 191 | G16: ='Ex 2 Balance Sheet'!F6 -> 191 | H16: ='Ex 2 Balance Sheet'!G6 -> -73.875668
B17: Total Assets | C17: 604.175 | D17: ='Ex 2 Balance Sheet'!B19 -> 6910.6093 | E17: ='Ex 2 Balance Sheet'!C19 -> 6777.9583
B18: Total Debt | C18: =330.72+1.823 -> 332.543 | D18: ='Ex 2 Balance Sheet'!B27+'Ex 2 Balance Sheet'!B22 -> 4592.2 | E18: ='Ex 2 Balance Sheet'!C27+'Ex 2 Balance Sheet'!C22 -> 4583.2
B19: Total Liabilities | C19: =C17-C20 -> 474.167 | D19: ='Ex 2 Balance Sheet'!B30 -> 6451.8287 | E19: ='Ex 2 Balance Sheet'!C30 -> 6399.2418
B20: Total Equity | C20: 130.008 | D20: ='Ex 2 Balance Sheet'!B33 -> 458.78062 | E20: ='Ex 2 Balance Sheet'!C33 -> 378.71646
B21: Total Capitalization | C21: =C20+C18 -> 462.551
B23: Leverage and Coverage ratios
B24: EBITDA/Interest | C24: =C9/C11 -> 1.0956694 | D24: =D9/D11 -> 1.9193105 | E24: =E9/E11 -> 1.3524315
B25: (EBITDA-Capex)/Interest | C25: =(C13/C11) -> 0.69127683 | D25: =(D13/D11) -> 1.0818925 | E25: =(E13/E11) -> 0.60503514
B26: Total Debt/LTM EBITDA | D26: =D18/D9 -> 6.5345803 | E26: =E18/E9 -> 9.2656593
B27: Net Debt/LTM EBITDA | D27: =(D18-D16)/D9 -> 6.0528771 | E27: =(E18-E16)/E9 -> 8.7299369

Sheet DCF
B3: DCF | E3: FYE16 | F3: FYE17 | G3: FYE18 | J3: WACC Calculation:
B4: PV of free cash flows | J4: % Equity | L4: =L25/(L25+'Pro-Forma Cap Table'!G13) -> 0.10149512
B5: Period | J5: Cost of Equity | L5: =M21+3*M22 -> 0.1822
B6: FCF in 2018 | J6: % Debt | L6: ='Pro-Forma Cap Table'!G13/('Pro-Forma Cap Table'!G13+DCF!L25) -> 0.89850488
B7: Terminal Value in 2018 | J7: Cost of Debt | L7: =O18 -> 0.054930007
B8: PV in 2018 of terminal value | J8: Tax Rate | L8: 0.25
B9: Enterprise Value | J9: WACC | L9: =(L5*L4)+(L7*L6) -> 0.06784729
B11: WACC (cost of capital) | C11: =L9 -> 0.06784729
B12: Long term growth (g) | C12: 0.02 | J12: Cost of Debt Calculation: | M12: % of Debt | N12: Interest Rate
J13: Revolver | M13: ='Pro-Forma Cap Table'!G10/'Pro-Forma Cap Table'!G13 -> 0.062930638 | N13: 0.053 | O13: =M13*N13 -> 0.0033353238
B14: Free Cash Flow Calculation | J14: 1st Lien TLB | M14: ='Pro-Forma Cap Table'!G11/'Pro-Forma Cap Table'!G13 -> 0.50643087 | N14: 0.053 | O14: =M14*N14 -> 0.026840836
B15: EBITDA | E15: ='Ex 1 Income Statement'!F24 -> 593.71166 | F15: ='Ex 1 Income Statement'!G24 -> 660.95066 | G15: ='Ex 1 Income Statement'!H24 -> 450.72883 | J15: 2L Term Loan | M15: ='Pro-Forma Cap Table'!G12/'Pro-Forma Cap Table'!G13 -> 0.43063849 | N15: 0.1 | O15: =M15*N15 -> 0.043063849
B16: Less: Increases in w/c assets | E16: =-('Statement of Cash Flows'!D12+'Statement of Cash Flows'!D13) -> -92.72664 | F16: =-('Statement of Cash Flows'!E12+'Statement of Cash Flows'!E13) -> 191.64894 | G16: =-('Statement of Cash Flows'!F12+'Statement of Cash Flows'!F13) -> 85.147164 | J16: Pre Tax Cost of Debt | O16: =O13+O14+O15 -> 0.073240009
B17: Plus: Increases in w/c liabilities | E17: ='Statement of Cash Flows'!D14 -> -54.88272 | F17: ='Statement of Cash Flows'!E14 -> 59.063008 | G17: ='Statement of Cash Flows'!F14 -> 25.029357 | J17: Tax Rate | O17: 0.25
B18: less: capital expenditures | E18: ='Statement of Cash Flows'!D21 -> -250 | F18: ='Statement of Cash Flows'!E21 -> -700 | G18: ='Statement of Cash Flows'!F21 -> -350 | J18: After Tax Cost of Debt | O18: =O16*(1-O17) -> 0.054930007
B19: less: taxes | E19: ='Ex 1 Income Statement'!F16 -> 6.4967371 | F19: ='Ex 1 Income Statement'!G16 -> -8.8052435 | G19: ='Ex 1 Income Statement'!H16 -> 47.886714
B20: FCFC (unlevered) | E20: =SUM(E15:E19) -> 202.59903 | F20: =SUM(F15:F19) -> 202.85736 | G20: =SUM(G15:G19) -> 258.79206 | J20: Cost of Equity Calculation
J21: Risk Free Rate | M21: 0.0247
J22: ERP | M22: 0.0525
J23: Beta (Assumed) | M23: 1.5
B24: Gordon Growth Method
B25: Terminal Value | C25: =(G20*(1+C12))/(C11-C12) -> 5516.883 | J25: Implied Market Cap | L25: =Comps!K27*'Ex 1 Income Statement'!G17 -> 393.46231
B26: PV of Free Cash Flows | C26: =(E20+F20+G20)/(1+C11) -> 622.04442
B27: PV of Terminal Value | C27: =C25/(1+C11) -> 5166.3595
B28: Implied Enterprise Value | C28: =C27+C26 -> 5788.4039

Sheet Comps
A1: Details
A2: Template | B2: Capital IQ Default Comps
A3: Currency: | B3: US Dollar
A4: As-Of Date | B4: 42304
A7: Company Comp Set
A8: Company Name | B8: TEV / Total Revenues LTM | C8: TEV / EBITDA LTM | D8: EBITDA Margin | E8: TEV / EBIT LTM | F8: P / Diluted EPS before Extra LTM | G8: P / TangBV LTM | H8: NTM TEV / Forward Total Revenue | I8: NTM TEV / Forward EBITDA | J8: Forward EBITDA Margin | K8: NTM Forward P / E
A9: Celanese Corporation | B9: 2.2 | C9: 11.3 | D9: =B9/C9 -> 0.19469027 | E9: 15 | F9: 20.7 | G9: 5.3 | H9: 2.17 | I9: 8.29 | J9: =H9/I9 -> 0.26176116 | K9: 11.33
A10: Albemarle Corporation | B10: 3.2 | C10: 15.9 | D10: =B10/C10 -> 0.20125786 | E10: 22.4 | F10: 31.6 | G10: NM | H10: 2.61 | I10: 10.2 | J10: =H10/I10 -> 0.25588235 | K10: 13.72
A11: Westlake Chemical Corp | B11: 1.7 | C11: 5.8 | D11: =B11/C11 -> 0.29310345 | E11: 6.9 | F11: 11.3 | G11: 2.7 | H11: 1.75 | I11: 6.29 | J11: =H11/I11 -> 0.2782194 | K11: 12.8
A12: The Valspar Corporation | B12: 1.9 | C12: 11.6 | D12: =B12/C12 -> 0.1637931 | E12: 13.4 | F12: 16.4 | G12: NM | H12: 1.83 | I12: 10.87 | J12: =H12/I12 -> 0.16835327 | K12: 16.07
A13: Eastman Chiemcal Co. | B13: 1.8 | C13: 8 | D13: =B13/C13 -> 0.225 | E13: 10.3 | F13: 15.5 | G13: NM | H13: 1.73 | I13: 7.67 | J13: =H13/I13 -> 0.22555411 | K13: 9.67
A14: Cytec Industries Inc. | B14: 2.9 | C14: 19.3 | D14: =B14/C14 -> 0.15025907 | E14: 27.1 | F14: 41.8 | G14: 8 | H14: 2.7 | I14: 12.19 | J14: =H14/I14 -> 0.22149303 | K14: 20.69
A15: Ecolab Inc. | B15: 3 | C15: 14.5 | D15: =B15/C15 -> 0.20689655 | E15: 20.6 | F15: 29.4 | G15: NM | H15: 2.97 | I15: 13.56 | J15: =H15/I15 -> 0.21902655 | K15: 24.58
A16: Huntsman Corporation | B16: 0.7 | C16: 6.4 | D16: =B16/C16 -> 0.109375 | E16: 8.8 | F16: 15.3 | G16: 2 | H16: 0.71 | I16: 5.73 | J16: =H16/I16 -> 0.12390925 | K16: 6.32
A17: W.R. Grace & Co. | B17: 2.9 | C17: 14.8 | D17: =B17/C17 -> 0.19594595 | E17: 18.9 | F17: 52.5 | G17: NM | H17: 2.82 | I17: 11.03 | J17: =H17/I17 -> 0.25566636 | K17: 18.99
A18: Axiall Corporation | B18: 0.7 | C18: 7.2 | D18: =B18/C18 -> 0.097222222 | E18: 18.8 | F18: 34.4 | G18: NM | H18: 0.71 | I18: 7 | J18: =H18/I18 -> 0.10142857 | K18: 23.98
A21: Ashland Inc. | B21: 1.7 | C21: 12.2 | D21: =B21/C21 -> 0.13934426 | E21: 21.3 | F21: 33.8 | G21: NM | H21: 1.81 | I21: 8.62 | J21: =H21/I21 -> 0.2099768 | K21: 14.54
A23: Summary Statistics
A24: High | B24: =MAX(B9:B18) -> 3.2 | C24: =MAX(C9:C18) -> 19.3 | D24: =MAX(D9:D18) -> 0.29310345 | E24: =MAX(E9:E18) -> 27.1 | F24: =MAX(F9:F18) -> 52.5 | G24: =MAX(G9:G18) -> 8 | H24: =MAX(H9:H18) -> 2.97 | I24: =MAX(I9:I18) -> 13.56 | ... K24: =MAX(K9:K18) -> 24.58
A25: Low | B25: =MIN(B9:B18) -> 0.7 | C25: =MIN(C9:C18) -> 5.8 | D25: =MIN(D9:D18) -> 0.097222222 | E25: =MIN(E9:E18) -> 6.9 | F25: =MIN(F9:F18) -> 11.3 | G25: =MIN(G9:G18) -> 2 | H25: =MIN(H9:H18) -> 0.71 | I25: =MIN(I9:I18) -> 5.73 | ... K25: =MIN(K9:K18) -> 6.32
A26: Mean | B26: =AVERAGE(B9:B18) -> 2.1 | C26: =AVERAGE(C9:C18) -> 11.48 | D26: =AVERAGE(D9:D18) -> 0.18375435 | E26: =AVERAGE(E9:E18) -> 16.22 | F26: =AVERAGE(F9:F18) -> 26.89 | G26: =AVERAGE(G9:G18) -> 4.5 | H26: =AVERAGE(H9:H18) -> 2 | I26: =AVERAGE(I9:I18) -> 9.283 | ... K26: =AVERAGE(K9:K18) -> 15.815
A27: Median | B27: =MEDIAN(B9:B18) -> 2.05 | C27: =MEDIAN(C9:C18) -> 11.45 | D27: =MEDIAN(D9:D18) -> 0.19531811 | E27: =MEDIAN(E9:E18) -> 16.9 | F27: =MEDIAN(F9:F18) -> 25.05 | G27: =MEDIAN(G9:G18) -> 4 | H27: =MEDIAN(H9:H18) -> 2 | I27: =MEDIAN(I9:I18) -> 9.245 | ... K27: =MEDIAN(K9:K18) -> 14.895
A28: 75th Percentile | B28: =QUARTILE(B9:B18,3) -> 2.9 | C28: =QUARTILE(C9:C18,3) -> 14.725 | D28: =QUARTILE(D9:D18,3) -> 0.20548688 | E28: =QUARTILE(E9:E18,3) -> 20.175 | F28: =QUARTILE(F9:F18,3) -> 33.7 | G28: =QUARTILE(G9:G18,3) -> 5.975 | H28: =QUARTILE(H9:H18,3) -> 2.6775 | I28: =QUARTILE(I9:I18,3) -> 10.99 | ... K28: =QUARTILE(K9:K18,3) -> 20.265
A29: 25th Percentile | B29: =QUARTILE(B9:B18,1) -> 1.725 | C29: =QUARTILE(C9:C18,1) -> 7.4 | D29: =QUARTILE(D9:D18,1) -> 0.15364258 | E29: =QUARTILE(E9:E18,1) -> 11.075 | F29: =QUARTILE(F9:F18,1) -> 15.725 | G29: =QUARTILE(G9:G18,1) -> 2.525 | H29: =QUARTILE(H9:H18,1) -> 1.735 | I29: =QUARTILE(I9:I18,1) -> 7.1675 | ... K29: =QUARTILE(K9:K18,1) -> 11.6975
A32: SCI Figures
B33: 2015 | C33: 2016E | D33: 2017E
A34: Revenue | B34: 6508.5 | C34: ='Ex 1 Income Statement'!F5 -> 6098.4362 | D34: ='Ex 1 Income Statement'!G5 -> 6710.8832
A35: EBITDA | B35: 471.7 | C35: ='Ex 1 Income Statement'!F24 -> 593.71166 | D35: ='Ex 1 Income Statement'!G24 -> 660.95066
A36: Adjusted EBITDA | B36: 494.6 | C36: ='Ex 1 Income Statement'!F24-'Ex 1 Income Statement'!F10 -> 624.20384 | D36: ='Ex 1 Income Statement'!G24-'Ex 1 Income Statement'!G10 -> 694.50507
A39: EBITDA Margin | B39: =B35/B$34 -> 0.072474456 | C39: =C35/C$34 -> 0.097354738 | D39: =D35/D$34 -> 0.09848937
A40: Adjusted EBITDA Margin | B40: =B36/B$34 -> 0.075992932 | C40: =C36/C$34 -> 0.10235474 | D40: =D36/D$34 -> 0.10348937
A43: Valuation
B44: 2015 | C44: 2016E | D44: 2017E
A45: TEV / EBITDA Median Percentile | B45: =$C$27*B36 -> 5663.17 | C45: =$I$27*C36 -> 5770.7645 | D45: =$I$27*D36 -> 6420.6994
A46: TEV / EBITDA 75th Percentile | B46: =$C$28*B36 -> 7282.985 | C46: =$I$28*C36 -> 6860.0002 | D46: =$I$28*D36 -> 7632.6108

Sheet Waterfall -- Template
B1: Specialty Chemical Inc
B2: Waterfall Model as of March 2016
B4: ($ in USD millions) | C4: 3 | D4: 1 | E4: 2
C5: Low | D5: Base | E5: High
B6: Run Rate EBITDA | C6: =IF(Feeder!$B$4=3,'Ex 1 Income Statement'!F24,C6) -> 470.91241 | D6: =IF(Feeder!$B$4=1,'Ex 1 Income Statement'!F24,D6) -> 593.71166 | E6: =IF(Feeder!$B$4=1,'Ex 1 Income Statement'!G24,E6) -> 660.95066
B7: EBITDA Multiple | C7: =Comps!I29 -> 7.1675 | D7: =Comps!I27 -> 9.245 | E7: =Comps!I28 -> 10.99
B8: TEV | C8: =C6*C7 -> 3375.2647 | D8: =D6*D7 -> 5488.8643 | E8: =E6*E7 -> 7263.8477
B9: Plus: Cash | C9: =IF(Feeder!$B$4=3,'Ex 2 Balance Sheet'!E6,C9) -> 0 | D9: =IF(Feeder!$B$4=1,'Ex 2 Balance Sheet'!E6,D9) -> 191 | E9: =IF(Feeder!$B$4=2,'Ex 2 Balance Sheet'!E6,E9) -> 0
B10: Distributable Value | C10: =SUM(C8:C9) -> 3375.2647 | D10: =SUM(D8:D9) -> 5679.8643 | E10: =SUM(E8:E9) -> 7263.8477
B12: Pro Forma Debt Capacity | C12: ='Pro-Forma Cap Table'!$G$13/'Waterfall -- Template'!C6 -> 7.3967047 | D12: ='Pro-Forma Cap Table'!$G$13/'Waterfall -- Template'!D6 -> 5.866821 | E12: ='Pro-Forma Cap Table'!$G$13/'Waterfall -- Template'!E6 -> 5.2699849
B13: Cash Interest | C13: ='Pro-Forma Cap Table'!C106 -> 240.53243 | D13: ='Pro-Forma Cap Table'!D106 -> 262.50436 | E13: ='Pro-Forma Cap Table'!E106 -> 276.49465
B14: Leverage Ratio | C14: ='Pro-Forma Cap Table'!$G$13/'Waterfall -- Template'!C6 -> 7.3967047 | D14: ='Pro-Forma Cap Table'!$G$13/'Waterfall -- Template'!D6 -> 5.866821 | E14: ='Pro-Forma Cap Table'!$G$13/'Waterfall -- Template'!E6 -> 5.2699849 | F14: 7.5x Max Leverage Ratio if 25% of Revolver Drawn
B15: Interest Coverage Ratio | C15: =C6/C13 -> 1.9577917 | D15: =D6/D13 -> 2.2617211 | E15: =E6/E13 -> 2.3904646
B16: Free Cash Flow (EBITDA-Interest-Capex) | C16: =C6-C13-Feeder!I92 -> -44.620027 | D16: =D6-D13-Feeder!I90 -> 81.207294 | E16: =E6-E13-Feeder!I91 -> 159.45601
B18: Pro Forma Equity Value
B19: Plan Value of Equity (Distributable Value Less Debt) | C19: =MAX(C10-'Pro-Forma Cap Table'!$G$13,0) -> 0 | D19: =D10-'Pro-Forma Cap Table'!$G$13 -> 2196.6643 | E19: =E10-'Pro-Forma Cap Table'!$G$13 -> 3780.6477
B20: Amount of New Money ($) | C20: =650 -> 650 | D20: =650 -> 650 | E20: =650 -> 650 | F20: Who is funding the New Money?
B21: Equity Ownership by New Money (%) | C21: =0 -> 0 | D21: =D20/D19 -> 0.29590321 | E21: =E20/E19 -> 0.17192821
B22: Remaining Equity Available to Creditors ($) | C22: =0 -> 0 | D22: =D19-D20 -> 1546.6643 | E22: =E19-E20 -> 3130.6477 | F22: Equals Plan Value Less Value Attributable to New Money
B23: Remaining Equity Available to Creditors (%) | C23: =0% -> 0 | D23: =D22/D19 -> 0.70409679 | E23: =E22/E19 -> 0.82807179 | F23: Equals Plan Value Less Value Attributable to New Money
B25: Allocation of Value Available to First Lien Creditors
B26: ABL | C26: ='Pro-Forma Cap Table'!G10 -> 219.2 | D26: ='Pro-Forma Cap Table'!G10 -> 219.2 | E26: ='Pro-Forma Cap Table'!G10 -> 219.2
B27: 1 L TL B | C27: ='Pro-Forma Cap Table'!G11 -> 1764 | D27: ='Pro-Forma Cap Table'!G11 -> 1764 | E27: ='Pro-Forma Cap Table'!G11 -> 1764
B28: Total 1L Debt | C28: =SUM(C26:C27) -> 1983.2 | D28: =SUM(D26:D27) -> 1983.2 | E28: =SUM(E26:E27) -> 1983.2
B29: Recovery Rate for 1L Creditors | C29: =C28/SUM('Pro-Forma Cap Table'!$G$10:$G$11) -> 1 | D29: =D28/SUM('Pro-Forma Cap Table'!$G$10:$G$11) -> 1 | E29: =E28/SUM('Pro-Forma Cap Table'!$G$10:$G$11) -> 1
B31: Allocation of Value Available to Second Lien Creditors
B32: Cash | C32: =0 -> 0 | D32: =0 -> 0 | E32: =0 -> 0
B33: 2L Notes | C33: =C10-C28 -> 1392.0647 | D33: ='Pro-Forma Cap Table'!G12 -> 1500 | E33: ='Pro-Forma Cap Table'!G12 -> 1500
B34: Total 2L Debt | C34: ='Pro-Forma Cap Table'!G12 -> 1500 | D34: ='Pro-Forma Cap Table'!G12 -> 1500 | E34: ='Pro-Forma Cap Table'!G12 -> 1500
B35: Allocation of Equity (if any) to 2Ls (value at plan) ($) | C35: =0 -> 0 | D35: =0 -> 0 | E35: =0 -> 0
B36: Allocation of Equity (if any) to 2Ls (value at plan) (%) | C36: =0 -> 0 | D36: 0 | E36: =0 -> 0
B37: Recovery Rate for 2L Creditors | C37: =C33/'Pro-Forma Cap Table'!$G$12 -> 0.92804312 | D37: =D34/'Pro-Forma Cap Table'!$G$12 -> 1 | E37: =E34/'Pro-Forma Cap Table'!$G$12 -> 1
B39: Allocation of Value Available to Unsecured Creditors
B40: Take-Back Debt, if any | C40: =0 -> 0 | D40: =0 -> 0 | E40: =0 -> 0
B41: Allocation of Equity to Notes ($) | C41: =0 -> 0 | D41: ='Ex 3 Cap Table'!G16 -> 1100 | E41: ='Ex 3 Cap Table'!G16 -> 1100 | F41: Note that this does not include the new money investment
B42: Allocation of Equity to Notes (%) | C42: =0 -> 0 | D42: =D41/D19 -> 0.50075927 | E42: =E41/E19 -> 0.29095543
B43: Recovery Rate for Noteholders (at plan value) | C43: =0 -> 0 | D43: =D41/'Ex 3 Cap Table'!$G$16 -> 1 | E43: =E41/'Ex 3 Cap Table'!$G$16 -> 1 | F43: How does this compare to the trading price of the bonds?
B45: Allocation of Value Available to Equity Holders
B46: Allocation of Equity to Equity ($) | C46: =0 -> 0 | D46: =D19-D41-D52 -> 446.66426 | E46: =E19-E41-E52 -> 2030.6477
B47: Allocation of Equity to Equity (%) | C47: =0 -> 0 | D47: =D46/D19 -> 0.20333752 | E47: =E46/E19 -> 0.53711636
...

Sheet Additional Slides for Memo
